Workbook
Name _ftn1: 'Část 15'!$A$70
Name _ftn10: 'Část 15'!$A$79
Name _ftn11: 'Část 15'!$A$84
Name _ftn12: 'Část 15'!$A$85
Name _ftn13: 'Část 15'!$A$87
Name _ftn14: 'Část 15'!$A$88
Name _ftn15: 'Část 15'!$A$89
Name _ftn16: 'Část 15'!$A$90
Name _ftn17: 'Část 15'!$A$165
Name _ftn2: 'Část 15'!$A$71
Name _ftn3: 'Část 15'!$A$72
Name _ftn4: 'Část 15'!$A$73
Name _ftn5: 'Část 15'!$A$74
Name _ftn6: 'Část 15'!$A$75
Name _ftn7: 'Část 15'!$A$76
Name _ftn8: 'Část 15'!$A$77
Name _ftn9: 'Část 15'!$A$78
Name _ftnref1: 'Část 15'!$A$49
Name _ftnref10: 'Část 15'!$A$52
Name _ftnref11: 'Část 15'!$A$55
Name _ftnref12: 'Část 15'!$A$56
Name _ftnref13: 'Část 15'!$A$57
Name _ftnref14: 'Část 15'!$A$59
Name _ftnref15: 'Část 15'!$A$62
Name _ftnref16: 'Část 15'!$A$63
Name _ftnref17: 'Část 15'!$A$146
Name _ftnref2: 'Část 15'!$B$50
Name _ftnref3: 'Část 15'!$C$50
Name _ftnref4: 'Část 15'!$D$50
Name _ftnref5: 'Část 15'!$E$50
Name _ftnref6: 'Část 15'!$G$50
Name _ftnref7: 'Část 15'!$H$50
Name _ftnref8: 'Část 15'!$J$50
Name _ftnref9: 'Část 15'!$A$51
Name _Toc314673294: 'Část 15'!$A$115

Sheet Obsah
A1: Seznam údajů uveřejňovaných podle Části osmé, nařízení č. 575/2013/EU
A2: Datum uveřejnění informace | C2: (11/08/2015) | D2: Povinná osoba výkaz vyplňuje: ANO/NE
A3: Informace platné k datu | C3: (30/6/2015)
C4: frekvence vykazování
A5: Část 1 | B5: Cíle a zásady řízení rizik I | C5: 1 (ročně) | D5: NE
A6: Část 1a | B6: Cíle a zásady řízení rizik II | C6: 1 (ročně) | D6: NE
A7: Část 2 | B7: Oblast působnosti | C7: 1 (ročně) | D7: NE
A8: Část 3 | B8: Kapitál I - uveřejňují osoby podle čl. 13 nařízení č. 575/2013/EU* | C8: 1 (ročně) | D8: ANO
A9: Část 3a | B9: Kapitál II - uveřejňují osoby podle čl. 13 nařízení č. 575/2013/EU* | C9: 1 (ročně) | D9: ANO
A10: Část 3b | B10: Kapitál III - do 31.12. 2017- uveřejňují osoby podle čl. 13 nařízení č. 575/2013/EU* | C10: 4 (čtvrtletně) | D10: ANO
A11: Část 3c | B11: Kapitál IV - od 1.1. 2018 - uveřejňují osoby podle čl. 13 nařízení č. 575/2013/EU* | C11: 4 (čtvrtletně) | D11: -
A12: Část 3d | B12: Kapitál V - uveřejňují osoby podle čl. 13 nařízení č. 575/2013/EU* | C12: 1 (ročně) | D12: ANO
A13: Část 4 | B13: Požadavky na kapitál - uveřejňují osoby podle čl. 13 nařízení č. 575/2013/EU* | C13: 1 (ročně) | D13: ANO
A14: Část 4a | B14: Požadavky na kapitál - uveřejňují osoby podle čl. 13 nařízení č. 575/2013/EU* | C14: 4 (čtvrtletně) | D14: ANO
A15: Část 5 | B15: Expozice vůči úvěrovému riziku protistrany | C15: 1 (ročně) | D15: NE
A16: Část 6 | B16: Kapitálové rezervy - uveřejňují osoby podle čl. 13 nařízení č. 575/2013/EU* | C16: 1 (ročně) | D16: ANO
... A36: Část 20 | B36: Použití interních modelů pro tržní riziko | C36: 1 (ročně) | D36: NE
A37: * Tuto část uveřejňují i významné dceřiné podniky na základě čl. 13 druhého pododst. nařízení č. 575/2013/EU*

Sheet Část 1
A1: Část 1
A2: Cíle a zásady řízení rizik I
A4: Instituce zpřístupňují informace o svých cílech a zásadách v oblasti řízení rizik pro jednotlivé kategorie rizik | D4: nařízení č. 575/2013/EU
A6: =Obsah!A3 -> Informace platné k datu | C6: =Obsah!C3 -> (30/6/2015)
A7: Jednotlivé kategorie rizik | B7: Strategie a procesy řízení pro jednotlivé kategorie rizik | D7: čl. 435 odst. 1 písm. a)
D12: čl. 435 odst. 1 písm. a)
A22: Struktura a organizace příslušné funkce řízení rizik | B22: Informace o její pravomoci a statutu nebo jiných příslušných uspořádáních | D22: čl. 435 odst. 1 písm. b)
D28: čl. 435 odst. 1 písm. b)
A38: Rozsah a povaha systémů hlášení a měření rizik | D38: čl. 435 odst. 1 písm. c)
D40: čl. 435 odst. 1 písm. c)
A50: Zásady pro zajištění a snižování rizika a strategie a postupy pro sledování trvalé efektivity zajištění a snižování rizika | D50: čl. 435 odst. 1 písm. d)
D52: čl. 435 odst. 1 písm. d)
A62: Prohlášení schválené vedoucím orgánem o přiměřenosti opatření k řízení rizik instituce poskytující ujištění, že zavedené systémy řízení rizik jsou přiměřené s ohledem na profil a strategii instituce | D62: čl. 435 odst. 1 písm. e)
D64: čl. 435 odst. 1 písm. e)
A74: Stručné prohlášení o riziku schválené vedoucím orgánem, které výstižně popisuje celkový rizikový profil instituce související se strategií podnikání. Toto prohlášení obsahuje klíčové ukazatele a údaje, které poskytují externím zúčastněným stranám komplexní představu o řízení rizika institucí, včetně toho, jak je rizikový profil instituce propojen s tolerancí k riziku stanovenou vedoucím orgánem | D74: čl. 435 odst. 1 písm. f)
D76: čl. 435 odst. 1 písm. f)

Sheet Část 1a
A1: Část 1a
A2: Cíle a zásady řízení rizik II
A4: Instituce zpřístupňují uvedené informace týkající se systémů správy a řízení včetně pravidelných aktualizací prováděných minimálně jednou ročně | D4: nařízení č. 575/2013/EU
A6: =Obsah!A3 -> Informace platné k datu | C6: =Obsah!C3 -> (30/6/2015)
A7: Počet míst ve vedoucích orgánech společností a správní radě zastávaný členem vedoucího orgánu | D7: čl. 435 odst. 2 písm. a)
A8: Člen vedoucího orgánu | C8: Počet míst
D14: čl. 435 odst. 2 písm. a)
A29: Politika náboru pracovníků pro výběr členů vedoucího orgánu a jejich skutečné znalosti, dovednosti a zkušenosti | D29: čl. 435 odst. 2 písm. b)
D35: čl. 435 odst. 2 písm. b)
A50: Politika rozmanitosti s ohledem na výběr členů vedoucího orgánu, jeho cíle a příslušné specifické cíle stanovené v této politice a míru, v jaké bylo těchto obecných a specifických cílů dosaženo | D50: čl. 435 odst. 2 písm. c)
D56: čl. 435 odst. 2 písm. c)
A71: Zvláštní výbor pro rizika je zřízen - ANO/NE | B71: Počet zasedání výboru | D71: čl. 435 odst. 2 písm. d)
A73: Popis toku informací o riziku pro vedoucí orgán | D73: čl. 435 odst. 2 písm. e)
D75: čl. 435 odst. 2 písm. e)

Sheet Část 2
A1: Část 2
A2: Oblast působnosti
A4: Oblast působnosti | D4: nařízení č. 575/2013/EU
A6: =Obsah!A3 -> Informace platné k datu | C6: =Obsah!C3 -> (30/6/2015)
A7: Název instituce | D7: čl. 436 písm. a)
A8: Rozdíly v konsolidovaném základě pro účely účetnictví a obezřetnostního dohledu se stručným popisem subjektů a vysvětlením zda jsou plně konsolidovány, poměrně konsolidovány, odečteny od kapitálu, nejsou ani konsolidovány ani odečteny | D8: čl. 436 písm. b)
A10: Název subjektu | B10: Popis subjektu
D21: čl. 436 písm. b)
A51: Souhrnnou částku, o niž je skutečný kapitál nižší, než je požadováno, ve všech dceřiných podnicích nezahrnutých do konsolidace | D51: čl. 436 písm. d)
A52: Název těchto dceřiných podniků
A104: Jakékoli současné nebo předpokládané podstatné věcné nebo právní překážky bránící okamžitému převodu kapitálu nebo splacení závazků mezi mateřským podnikem a jeho dceřinými podniky | D104: čl. 436 písm. c)
A115: Okolnosti, za nichž jsou ustanovení stanovená v článcích 7 a 9 Nařízení 2013/575/EU využívána | D115: čl. 436 písm. e)

Sheet Část 3
A1: Část 3 | C1: PROVÁDĚCÍ NAŘÍZENÍ KOMISE (EU) č. 1423/2013 ze dne 20. prosince 2013, kterým se stanoví prováděcí technické normy, pokud jde o požadavky na zpřístupňování informací o kapitálu uložené institucím podle nařízení Evropského parlamentu a Rady (EU) č. 575/2013
A2: Kapitál I
A3: Tuto část uveřejňují i významné dceřinné podniky na základě čl. 13 druhého pododst.nařízení č. 575/2013/EU
A4: Údaje o kapitálu a kapitálových požadavcích | E4: Vyhláška č.23/2014 Sb., Příloha 13
A6: Informace platné k datu
A7: Úplné sesouhlasení položek kmenového kapitálu tier 1, vedlejšího kapitálu tier 1, položek kapitálu tier 2 a filtrů a odpočtů uplatněných podle článků 32 až 35, 36, 56, 66 a 79 na kapitál instituce a rozvahu v rámci auditované účetní závěrky instituce (znázorní se níže) | E7: čl. 437 odst. 1 písm. a)
A29: 1) Instituce použijí metodiku popsanou v této příloze za účelem poskytnutí informací o sesouhlasení mezi rozvahovými položkami použitými k výpočtu kapitálu a regulatorním kapitálem. Položky kapitálu v auditované účetní závěrce zahrnují veškeré položky, které jsou složkami regulatorního kapitálu nebo které jsou odečteny od tohoto kapitálu, včetně vlastního kapitálu, závazků, jako jsou dluhy, nebo jiných rozvahových položek, které ovlivňují regulatorní kapitál, jako jsou nehmotná aktiva, goodwill, odložené daňové pohledávky.
A30: 2) Jako výchozí bod použijí instituce příslušné rozvahové položky použité k výpočtu kapitálu v jejich zveřejněných účetních závěrkách. Účetní závěrka se považuje za auditovanou účetní závěrku, je-li sesouhlasení provedeno na základě účetní závěrky na konci roku.
A31: 3) Pokud instituce plní požadavky stanovené v části osmé nařízení (EU) č. 575/2013 na konsolidovaném nebo subkonsolidovaném základě a pokud se rozsah nebo metoda konsolidace použité v rozvaze v rámci účetní závěrky liší od rozsahu nebo metody konsolidace vyžadované podle části první hlavy II kapitoly 2 nařízení (EU) č. 575/2013, zpřístupní instituce rovněž rozvahu podle právních předpisů, což je rozvaha vypracována podle pravidel obezřetnostní konsolidace podle části první hlavy II kapitoly 2 nařízení (EU) č. 575/2013 a vztahuje se pouze na položky kapitálu. Rozvaha podle právních předpisů je s ohledem na položky kapitálu přinejmenším stejně podrobná jako rozvaha v rámci účetní závěrky a její položky jsou uvedeny vedle sebe s jednoznačným přiřazením položek kapitálu v rozvaze v rámci účetní závěrky. Instituce poskytnou kvalitativní a kvantitativní informace o rozdílech v položkách kapitálu mezi oběma rozvahami, které jsou způsobeny rozsahem a metodou konsolidace.
A32: 4) Instituce za druhé rozšíří položky kapitálu v rozvaze podle právních předpisů tak, aby byly všechny složky vyžadované v přechodné šabloně pro zpřístupňování informací nebo v šabloně pro zpřístupňování informací o kapitálu uvedeny zvlášť. Instituce rozšíří položky rozvahy pouze na úroveň rozčlenění, která je nezbytná pro odvození položek vyžadovaných v přechodné šabloně pro zpřístupňování informací nebo v šabloně pro zpřístupňování informací o kapitálu.
A33: 5) Instituce provedou za třetí přiřazení mezi položkami vyplývajícími z rozšíření rozvahy podle právních předpisů, jak je popsáno v bodě 4, a položkami uvedenými v přechodné šabloně pro zpřístupňování informací nebo v šabloně pro zpřístupňování informací o kapitálu.
A34: 6) Pokud instituce plní požadavky stanovené v části osmé nařízení (EU) č. 575/2013 na konsolidovaném nebo subkonsolidovaném základě, rozsah a metoda konsolidace použité pro rozvahu v rámci účetní závěrky jsou však totožné s rozsahem a metodou konsolidace stanovenými podle části první hlavy II kapitoly 2 nařízení (EU) č. 575/2013, a instituce jednoznačně uvedou, že mezi příslušnými rozsahy a metodami konsolidace neexistují rozdíly, použijí se pouze body 4 a 5 této přílohy na základě rozvahy v rámci účetní závěrky.
A35: 7) Pokud instituce plní požadavky stanovené v části osmé nařízení (EU) č. 575/2013 na individuálním základě, bod 3 této přílohy se nepoužije a místo toho se použijí body 4 a 5 této přílohy na základě rozvahy v rámci účetní závěrky.
A36: 8) Informace týkající se rozvahového sesouhlasení položek kapitálu vyplývající z použití metodiky popsané v této příloze mohou být poskytnuty v neauditované podobě.

Sheet Část 3a
A1: Část 3a | C1: PROVÁDĚCÍ NAŘÍZENÍ KOMISE (EU) č. 1423/2013 ze dne 20. prosince 2013, kterým se stanoví prováděcí technické normy, pokud jde o požadavky na zpřístupňování informací o kapitálu uložené institucím podle nařízení Evropského parlamentu a Rady (EU) č. 575/2013
A2: Kapitál II
A3: Tuto část uveřejňují i významné dceřinné podniky na základě čl. 13 druhého pododst. nařízení č. 575/2013/EU
A4: Šablona pro zpřístupňování informací o hlavních rysech kapitálových nástrojů1 podle čl. 437 odst. 1 písm. b) nařízení
A6: Informace platné k datu
A7: 1 | B7: Emitent
A8: 2 | B8: Specifický identifikační kód (např. CUSIP, ISIN nebo Bloomberg v případě soukromé investice)
A9: 3 | B9: Právní předpisy, jimiž se nástroj řídí
A10: Regulační zacházení
A11: 4 | B11: Pravidla nařízení o kapitálových požadavcích platná v přechodném období
A12: 5 | B12: Způsobilý na individuálním/(sub-)konsolidovaném základě / individuálním a (sub-)konsolidovaném základě
A13: 6 | B13: Pravidla nařízení o kapitálových požadavcích platná po uplynutí přechodného období
A14: 7 | B14: Typ nástroje (typy upřesní každá jurisdikce)
A15: 8 | B15: Objem uznaný v regulatorním kapitálu (měna v milionech, k poslednímu datu pro vykazování)
A16: 9 | B16: Nominální hodnota nástroje
A17: 9a | B17: Emisní cena
A18: 9b | B18: Cena při splacení
A19: 10 | B19: Účetní klasifikace
A20: 11 | B20: Původní datum vydání
A21: 12 | B21: Věčný nebo datovaný
A22: 13 | B22: Původní datum splatnosti
A23: 14 | B23: Vypovězení emitentem s výhradou předchozího schválení orgány dohledu
A24: 15 | B24: Datum možného vypovězení, data případného vypovězení a hodnota při splacení
A25: 16 | B25: Data následného vypovězení, je-li použitelné
A26: Kupony/dividendy
A27: 17 | B27: Pevná nebo pohyblivá dividenda/kupon
A28: 18 | B28: Kuponová sazba a případný související index
A29: 19 | B29: Existence systému pozastavení výplaty dividend
A30: 20a | B30: Zcela podle uvážení, částečně podle uvážení nebo povinné (pokud jde o časový harmonogram)
A31: 20b | B31: Zcela podle uvážení, částečně podle uvážení nebo povinné (pokud jde o objem)
A32: 21 | B32: Existence navýšení či jiné pobídky ke splacení nástroje
A33: 22 | B33: Nekumulativní nebo kumulativní
A34: 23 | B34: Konvertibilní nebo nekonvertibilní
A35: 24 | B35: V případě konvertibilního nástroje, rozhodná událost pro konverzi
A36: 25 | B36: V případě konvertibilního nástroje, konvertibilní zcela nebo částečně
A37: 26 | B37: V případě konvertibilního nástroje, konverzní faktor
A38: 27 | B38: V případě konvertibilního nástroje, povinná nebo nepovinná konverze
A39: 28 | B39: V případě konvertibilního nástroje upřesněte, na jaký typ nástroje lze dotyčný nástroj převést
A40: 29 | B40: V případě konvertibilního nástroje uveďte emitenta nástroje, na nějž je dotyčný nástroj převeden
A41: 30 | B41: Možnost snížení účetní hodnoty
...

Sheet Část 3b
A1: Část 3b | C1: PROVÁDĚCÍ NAŘÍZENÍ KOMISE (EU) č. 1423/2013 ze dne 20. prosince 2013, kterým se stanoví prováděcí technické normy, pokud jde o požadavky na zpřístupňování informací o kapitálu uložené institucím podle nařízení Evropského parlamentu a Rady (EU) č. 575/2013
A2: Kapitál III - do 31.12. 2017
A3: Tuto část uveřejňují i významné dceřinné podniky na základě čl. 13 druhého pododst. nařízení č. 575/2013/EU
A4: Přechodná šablona pro zpřístupňování informací o kapitálu podle čl. 437 odst. 1 písm. a) nařízení s výjimkou úplného sesouhlasení položek, filtrů a odpočtů na rozvahu v rámci auditované účetní závěrky
A5: Přechodná šablona pro zpřístupňování informací o kapitálu podle čl. 437 odst. 1 písm. d) a e) a čl. 492 odst. 3 nařízení
A6: Informace platné k datu | H6: =Obsah!C3 -> (30/6/2015)
A7: Kmenový kapitál tier 1: nástroje a rezervy | D7: K ultimu vykazovaného období | E7: K ultimu 1. předcházejícího období | F7: K ultimu 2. předcházejícího období | G7: K ultimu 3. předcházejícího období | H7: (A) ODKAZ NA ČLÁNEK nařízení č. 575/2013/EU | I7: (C) HODNOTY, NA KTERÉ SE VZTAHUJE ZACHÁZENÍ PLATNÉ PŘED NAŘÍZENÍM (EU) č. 575/2013, NEBO ZBYTKOVÁ ČÁSTKA STANOVENÁ V nařízení č. 575/2013/EU
D8: (2Q/2015) | E8: (1Q/2015) | F8: (4Q/2014) | G8: (3Q/2014)
A9: 1 | B9: Kapitálové nástroje a související emisní ážio | D9: 27145405 | E9: 27145405 | F9: 26545405 | G9: 26545405 | H9: Čl. 26 odst. 1, články 27, 28, 29, seznam EBA podle čl. 26 odst. 3
B10: z toho: typ nástroje č. 1 | D10: 5076335.5 | E10: 5076335.5 | F10: 5076335 | G10: 5076335 | H10: Seznam EBA podle čl. 26 odst. 3
B11: z toho: typ nástroje č. 2 | D11: 22069070 | E11: 22069070 | F11: 21469070 | G11: 21469070 | H11: Seznam EBA podle čl. 26 odst. 3
B12: z toho: typ nástroje č. 3 | H12: Seznam EBA podle čl. 26 odst. 3
A13: 2 | B13: Nerozdělený zisk | D13: 0 | E13: 3078272.5 | F13: 79.25805 | G13: 79 | H13: Čl. 26 odst. 1 písm. c)
A14: 3 | B14: Kumulovaný ostatní úplný výsledek hospodaření (a jiné rezervy) | D14: -1003.1583 | E14: -33724.979 | F14: -19715.123 | G14: -9608.8384 | H14: Čl. 26 odst. 1 písm. f)
A15: 3a | B15: Rezervní fond na všeobecná bankovní rizika | D15: 1015270 | E15: 1015270 | F15: 1015270 | G15: 1015270 | H15: Čl. 26 odst. 1 písm. f)
A16: 4 | B16: Objem kvalifikovaných položek uvedených v čl. 484 odst. 3 a souvisejícího emisního ážia podléhající postupnému odstranění z kmenového kapitálu tier 1 | H16: Čl. 486 odst. 2
A17: 5 | B17: Menšinový podíl (hodnota přípustná v konsolidovaném kmenovém kapitálu tier 1) | H17: Články 84, 479, 480
A18: 5a | B18: Nezávisle ověřený mezitímní zisk snížený o předvídatelné výplaty nebo dividendy | H18: Čl. 26 odst. 2
A19: 6 | B19: Kmenový kapitál tier 1 před normativními úpravami | D19: 28159672 | E19: 31205223 | F19: 27541040 | G19: 27551146 | H19: KmenSoučet řádků 1 až 5a
A20: Kmenový kapitál tier 1: normativní úpravy
A21: 7 | B21: Dodatečné úpravy ocenění (záporná hodnota) | D21: -149.10326 | E21: -360.78967 | F21: -250.803 | G21: -151.85897 | H21: Články 34, 105
A22: 8 | B22: Nehmotná aktiva (snížená o související daňové závazky) (záporná hodnota) | D22: -89677.494 | E22: -71791.814 | F22: -57943.795 | G22: -39792.412 | H22: Čl. 36 odst. 1 písm. b), článek 37
A23: 9 | B23: V EU prázdná množina
A24: 10 | B24: Odložené daňové pohledávky závislé na budoucím zisku kromě pohledávek vyplývajících z přechodných rozdílů (snížené o související daňové závazky, pokud jsou splněny podmínky čl. 38 odst. 3) (záporná hodnota) | H24: Čl. 36 odst. 1 písm. c), článek 38
A25: 11 | B25: Oceňovací rozdíly ze změn reálné hodnoty spojené se zisky nebo ztrátami ze zajištění peněžních toků | D25: 1003.1583 | E25: 33724.979 | F25: 19715.123 | G25: 9608.8384 | H25: Čl. 33 odst. 1 písm. a)
A26: 12 | B26: Záporné hodnoty vyplývající z výpočtu výše očekávaných ztrát | D26: -698649.04 | E26: -712901.93 | F26: -609044.35 | G26: -643301.15 | H26: Čl. 36 odst. 1 písm. d), články 40, 159
A27: 13 | B27: Zvýšení vlastního kapitálu, které vyplývá ze sekuritizace aktiv (záporná hodnota) | H27: Čl. 32 odst. 1
A28: 14 | B28: Zisky nebo ztráty ze závazků oceněných reálnou hodnotou, které vyplývají ze změn vlastního úvěrového hodnocení | H28: Čl. 33 odst. 1 písm. b)
A29: 15 | B29: Aktiva penzijního fondu definovaných požitků (záporná hodnota) | H29: Čl. 36 odst. 1 písm. e), článek 41
A30: 16 | B30: Přímé a nepřímé kapitálové investice instituce do vlastních nástrojů zahrnovaných do kmenového kapitálu tier 1 (záporná hodnota) | H30: Čl. 36 odst. 1 písm. f), článek 42
A31: 17 | B31: Kapitálové investice do nástrojů zahrnovaných do kmenového kapitálu tier 1 subjektů finančního sektoru, pokud tyto subjekty mají s institucí vztah vzájemné účasti, jehož účelem je uměle zvýšit kapitál instituce (záporná hodnota) | H31: Čl. 36 odst. 1 písm. g), článek 44
A32: 18 | B32: Přímé a nepřímé kapitálové investice instituce do nástrojů zahrnovaných do kmenového kapitálu tier 1 subjektů finančního sektoru, v nichž instituce nemá významnou investici (objem vyšší než 10% prahová hodnota po odečtení způsobilých krátkých pozic) (záporná hodnota) | H32: Čl. 36 odst. 1 písm. h), články 43, 45, 46, čl. 49 odst. 2 a 3, článek 79
A33: 19 | B33: Přímé, nepřímé a syntetické kapitálové investice instituce do nástrojů zahrnovaných do kmenového kapitálu tier 1 subjektů finančního sektoru, v nichž instituce má významnou investici (objem vyšší než 10% prahová hodnota po odečtení způsobilých krátkých pozic) (záporná hodnota) | H33: Čl. 36 odst. 1 písm. i), články 43, 45, 47, čl. 48 odst. 1 písm. b), čl. 49 odst. 1 až 3, článek 79
A34: 20 | B34: V EU prázdná množina
A35: 20a | B35: Objem expozice u následujících položek, kterým se má přiřadit riziková váha 1250 %, pokud se instituce rozhodne pro odpočet jako alternativní postup | H35: Čl. 36 odst. 1 písm. k)
A36: 20b | B36: z toho: kvalifikované účasti mimo finanční sektor (záporná hodnota) | H36: Čl. 36 odst. 1 písm. k) bod i), články 89 až 91
A37: 20c | B37: z toho: sekuritizované pozice (záporná hodnota) | H37: Čl. 36 odst. 1 písm. k) bod ii) čl. 243 odst. 1 písm. b) čl. 244 odst. 1 písm. b) článek 258
A38: 20d | B38: z toho: volné dodávky (záporná hodnota) | H38: Čl. 36 odst. 1 písm. k) bod iii), čl. 379 odst. 3
A39: 21 | B39: Odložené daňové pohledávky vyplývající z přechodných rozdílů (objem vyšší než 10% prahová hodnota, snížený o související daňové závazky, jsou-li splněny podmínky v stanovené v čl. 38 odst. 3) (záporná hodnota) | H39: Čl. 36 odst. 1 písm. c), článek 38, čl. 48 odst. 1 písm. a)
A40: 22 | B40: Objem přesahující 15% prahovou hodnotu (záporná hodnota) | H40: Čl. 48 odst. 1
...

Sheet Část 3c
A1: Část 3c | C1: PROVÁDĚCÍ NAŘÍZENÍ KOMISE (EU) č. 1423/2013 ze dne 20. prosince 2013, kterým se stanoví prováděcí technické normy, pokud jde o požadavky na zpřístupňování informací o kapitálu uložené institucím podle nařízení Evropského parlamentu a Rady (EU) č. 575/2014
A2: Kapitál IV - od 1.1. 2018
A3: Tuto část uveřejňují i významné dceřinné podniky na základě čl. 13 druhého pododst. nařízení č. 575/2013/EU
A4: Šablona pro zpřístupňování informací o kapitálu podle čl. 437 odst. 1 písm. a) nařízení s výjimkou úplného sesouhlasení položek, filtrů a odpočtů na rozvahu v rámci auditované účetní závěrky
A5: Šablona pro zpřístupňování informací o kapitálu podle čl. 437 odst. 1 písm. d) a e) nařízení
A6: Informace platné k datu | D6: (dd/mm/rrrr)
D7: K ultimu vykazovaného období | E7: K ultimu 1. předcházejícího období | F7: K ultimu 2. předcházejícího období | G7: K ultimu 3. předcházejícího období | H7: Odkaz na článek nařízení č. 575/2013/EU
D8: (qq/rrrr) | E8: (qq/rrrr) | F8: (qq/rrrr) | G8: (qq/rrrr)
A9: 1 | B9: Kapitálové nástroje a související emisní ážio | H9: Čl. 26 odst. 1, články 27, 28, 29
B10: z toho: typ nástroje č. 1 | H10: Seznam EBA podle čl. 26 odst. 3
B11: z toho: typ nástroje č. 2 | H11: Seznam EBA podle čl. 26 odst. 3
B12: z toho: typ nástroje č. 3 | H12: Seznam EBA podle čl. 26 odst. 3
A13: 2 | B13: Nerozdělený zisk | H13: Čl. 26 odst. 1 písm. c)
A14: 3 | B14: Kumulovaný ostatní úplný výsledek hospodaření (a jiné rezervy) | H14: Čl. 26 odst. 1
A15: 3a | B15: Rezervní fond na všeobecná bankovní rizika | H15: Čl. 26 odst. 1 písm. f)
A16: 4 | B16: Objem kvalifikovaných položek uvedených v čl. 484 odst. 3 a souvisejícího emisního ážia podléhající postupnému odstranění z kmenového kapitálu tier 1 | H16: Čl. 486 odst. 2
A17: 5 | B17: Menšinový podíl (hodnota přípustná v konsolidovaném kmenovém kapitálu tier 1) | H17: Článek 84
A18: 5a | B18: Nezávisle ověřený mezitímní zisk snížený o předvídatelné výplaty nebo dividendy | H18: Čl. 26 odst. 2
A19: 6 | B19: Kmenový kapitál tier 1 před normativními úpravami | H19: Součet řádků 1 až 5a
A20: Kmenový kapitál tier 1: normativní úpravy
A21: 7 | B21: Dodatečné úpravy ocenění (záporná hodnota) | H21: Články 34, 105
A22: 8 | B22: Nehmotná aktiva (snížená o související daňové závazky) (záporná hodnota) | H22: Čl. 36 odst. 1 písm. b), článek 37
A23: 9 | B23: V EU prázdná množina
A24: 10 | B24: Odložené daňové pohledávky závislé na budoucím zisku kromě pohledávek vyplývajících z přechodných rozdílů (snížené o související daňové závazky, pokud jsou splněny podmínky čl. 38 odst. 3) (záporná hodnota) | H24: Čl. 36 odst. 1 písm. c), článek 38
A25: 11 | B25: Oceňovací rozdíly ze změn reálné hodnoty spojené se zisky nebo ztrátami ze zajištění peněžních toků | H25: Čl. 33 odst. 1 písm. a)
A26: 12 | B26: Záporné hodnoty vyplývající z výpočtu výše očekávaných ztrát | H26: Čl. 36 odst. 1 písm. d), články 40, 159
A27: 13 | B27: Zvýšení vlastního kapitálu, které vyplývá ze sekuritizace aktiv (záporná hodnota) | H27: Čl. 32 odst. 1
A28: 14 | B28: Zisky nebo ztráty ze závazků oceněných reálnou hodnotou, které vyplývají ze změn vlastního úvěrového hodnocení | H28: Čl. 33 odst. 1 písm. b)
A29: 15 | B29: Zisky nebo ztráty ze závazků oceněných reálnou hodnotou, které vyplývají ze změn vlastního úvěrového hodnocení | H29: Čl. 36 odst. 1 písm. e), článek 41
A30: 16 | B30: Přímé a nepřímé kapitálové investice instituce do vlastních nástrojů zahrnovaných do kmenového kapitálu tier 1 (záporná hodnota) | H30: Čl. 36 odst. 1 písm. f), článek 42
A31: 17 | B31: Přímé, nepřímé a syntetické kapitálové investice do nástrojů zahrnovaných do kmenového kapitálu tier 1 subjektů finančního sektoru, pokud tyto subjekty mají s institucí vztah vzájemné účasti, jehož účelem je uměle zvýšit kapitál instituce (záporná hodnota) | H31: Čl. 36 odst. 1 písm. g), článek 44
A32: 18 | B32: Přímé, nepřímé a syntetické kapitálové investice instituce do nástrojů zahrnovaných do kmenového kapitálu tier 1 subjektů finančního sektoru, v nichž instituce nemá významnou investici (objem vyšší než 10% prahová hodnota po odečtení způsobilých krátkých pozic) (záporná hodnota) | H32: Čl. 36 odst. 1 písm. h), články 43, 45, 46, čl. 49 odst. 2 a 3, článek 79
A33: 19 | B33: Přímé, nepřímé a syntetické kapitálové investice instituce do nástrojů zahrnovaných do kmenového kapitálu tier 1 subjektů finančního sektoru, v nichž instituce má významnou investici (objem vyšší než 10% prahová hodnota po odečtení způsobilých krátkých pozic) (záporná hodnota) | H33: Čl. 36 odst. 1 písm. i), články 43, 45, 47, čl. 48 odst. 1 písm. b), čl. 49 odst. 1 až 3, článek 79
A34: 20 | B34: V EU prázdná množina
A35: 20a | B35: Objem expozice u následujících položek, kterým se má přiřadit riziková váha 1250 %, pokud se instituce rozhodne pro odpočet jako alternativní postup | H35: Čl. 36 odst. 1 písm. k)
A36: 20b | B36: z toho: kvalifikované účasti mimo finanční sektor (záporná hodnota) | H36: Čl. 36 odst. 1 písm. k) bod i), články 89 až 91
A37: 20c | B37: z toho: sekuritizované pozice (záporná hodnota) | H37: Čl. 36 odst. 1 písm. k) bod ii), čl. 243 odst. 1 písm. b), čl. 244 odst. 1 písm. b), článek 258
A38: 20d | B38: z toho: volné dodávky (záporná hodnota) | H38: Čl. 36 odst. 1 písm. k) bod iii), čl. 379 odst. 3
A39: 21 | B39: Odložené daňové pohledávky vyplývající z přechodných rozdílů (objem vyšší než 10% prahová hodnota, snížený o související daňové závazky, jsou-li splněny podmínky stanovené v čl. 38 odst. 3) (záporná hodnota) | H39: Čl. 36 odst. 1 písm. c), článek 38, čl. 48 odst. 1 písm. a)
A40: 22 | B40: Objem přesahující 15% prahovou hodnotu (záporná hodnota) | H40: Čl. 48 odst. 1
...

Sheet Část 3d
A1: Část 3d | B1: PROVÁDĚCÍ NAŘÍZENÍ KOMISE (EU) č. 1423/2013 ze dne 20. prosince 2013, kterým se stanoví prováděcí technické normy, pokud jde o požadavky na zpřístupňování informací o kapitálu uložené institucím podle nařízení Evropského parlamentu a Rady (EU) č. 575/2013
A2: Kapitál V
A3: Tuto část uveřejňují i významné dceřinné podniky na základě čl. 13 druhého pododst. nařízení č. 575/2013/EU
A4: Instituce zpřístupňují níže uvedené informace týkající se jejich kapitálu | D4: nařízení č. 575/2013/EU
A6: =Obsah!A3 -> Informace platné k datu
A7: Podmínky všech nástrojů kmenového kapitálu tier 1, vedlejšího kapitálu tier 1 a kapitálu tier 2 v plném znění | D7: čl. 437 odst. 1 písm. c)
D13: čl. 437 odst. 1 písm. c)
A38: Pokud instituce zpřístupňují kapitálové poměry vypočtené pomocí složek kapitálu určených na jiném základě, než který je stanoven v tomto nařízení, uveřejní komplexní objasnění základu použitého pro výpočet těchto poměrů kapitálu | D38: čl. 437 odst. 1 písm. f)

Sheet Část 4
A1: Část 4
A2: Požadavky na kapitál
A3: Tuto část uveřejňují i významné dceřinné podniky na základě čl. 13 druhého pododst. nařízení č. 575/2013/EU
A4: Instituce zpřístupňují níže uvedené informace týkající se splnění požadavků stanovených v článku 92 Nařízení 2013/575/EU a v článku 73 směrnice 2013/36/EU | D4: nařízení č. 575/2013/EU
A6: =Obsah!A3 -> Informace platné k datu
A7: Shrnutí přístupu instituce k hodnocení přiměřenosti jejího vnitřně stanoveného kapitálu vzhledem k současným a budoucím činnostem | D7: čl. 438 písm. a)
D9: CRD 438 písm. a)
A24: Výsledek interního postupu instituce pro hodnocení kapitálové přiměřenosti včetně složení dodatečných kapitálových požadavků na základě procesu dohledu uvedené v čl. 104 odst. 1 písm. a) směrnice 2013/36/EU | D24: čl. 438 písm. b)
D26: čl. 438 písm. b)
A41: Instituce, které počítají objem rizikově vážených expozic podle čl. 153 odst. 5 nebo čl. 155 odst. 2, zpřístupňují expozice přiřazené k jednotlivým kategoriím v tabulce č. 1 v čl. 153 odst. 5 nebo k jednotlivým rizikovým váhám zmíněným v čl. 155 odst. 2. | D41: čl. 438 pododst. 1
D43: čl. 438 pododst. 1

Sheet Část 4a
A1: Část 4
A2: Požadavky na kapitál
A3: Tuto část uveřejňují i významné dceřinné podniky na základě čl. 13 druhého pododst. nařízení č. 575/2013/EU
A4: Instituce zpřístupňují níže uvedené informace týkající se splnění požadavků stanovených v článku 92 nařízení č. 575/2013/EU a v článku 73 směrnice 2013/36/EU | G4: nařízení č. 575/2013/EU
A6: =Obsah!A3 -> Informace platné k datu | F6: =Obsah!C3 -> (30/6/2015)
C7: K ultimu vykazovaného období | D7: K ultimu 1. předcházejícího období | E7: K ultimu 2. předcházejícího období | F7: K ultimu 3. předcházejícího období
C8: ='Část 3b'!D8 -> (2Q/2015) | D8: ='Část 3b'!E8 -> (1Q/2015) | E8: ='Část 3b'!F8 -> (4Q/2014) | F8: ='Část 3b'!G8 -> (3Q/2014)
A9: V případě institucí, které počítají objem rizikově vážených expozic podle části třetí hlavy II kapitoly 2, 8 % objemu rizikově vážených expozic pro každou kategorii expozic uvedenou v článku 112 | B9: Expozice vůči ústředním vládám nebo centrálním bankám | C9: 0 | D9: 0 | E9: 0 | F9: 0 | G9: čl. 438 písm. c)
B10: Expozice vůči regionálním vládám nebo místním orgánům | C10: 0 | D10: 0 | E10: 0 | F10: 0
B11: Expozice vůči subjektům veřejného sektoru | C11: 0 | D11: 0 | E11: 0 | F11: 0
B12: Expozice vůči mezinárodním rozvojovým bankám | C12: 0 | D12: 0 | E12: 0 | F12: 0
B13: Expozice vůči mezinárodním organizacím | C13: 0 | D13: 0 | E13: 0 | F13: 0
B14: Expozice vůči institucím | C14: 0 | D14: 0 | E14: 0 | F14: 0
B15: Expozice vůči podnikům | C15: 0 | D15: 0 | E15: 0 | F15: 0
B16: Retailové expozice | C16: 0 | D16: 0 | E16: 0 | F16: 0
B17: Expozice zajištěné nemovitostmi | C17: 93985.891 | D17: 99393.562 | E17: 103554.44 | F17: 109469.64
B18: Expozice v selhání | C18: 235.47208 | D18: 219.54658 | E18: 219.33417 | F18: 217.10253
B19: Expozice spojené s obzvláště vysokým rizikem | C19: 0 | D19: 0 | E19: 0 | F19: 0
B20: Expozice v krytých dluhopisech | C20: 0 | D20: 0 | E20: 0 | F20: 0
B21: Položky představující sekuritizované pozice | C21: 0 | D21: 0 | E21: 0 | F21: 0
... B25: Ostatní položky | C25: 0 | D25: 0 | E25: 0 | F25: 0
A26: kapitálové požadavky vypočítané podle čl. 92 odst. 3 písm. b) a c | B26: K pozičnímu riziku | C26: 0 | D26: 0 | E26: 0 | F26: 0 | G26: čl. 438 písm. e)
B27: Pro velké expozice přesahující limity stanovené v článcích 395 až 401, pokud je instituci povoleno tyto limity překročit | C27: 0 | D27: 0 | E27: 0 | F27: 0
B28: K měnovému rizyku | C28: 0 | D28: 0 | E28: 0 | F28: 0
B29: K vypořádacímu riziku | C29: 0 | D29: 0 | E29: 0 | F29: 0
B30: Ke komoditnímu riziku | C30: 0 | D30: 0 | E30: 0 | F30: 0
A31: Kapitálové požadavky vypočítané podle části třetí hlavy III kapitol 2, 3 a 4 Nařízení 2013/575/EU a zpřístupňované odděleně | B31: Kapitálový požadavek podle hlavy III kapitoly 2 nařízení 2013/575/EU | C31: 507321.42 | D31: 507321.42 | E31: 451582.78 | F31: 451582.78 | G31: čl. 438 písm. f)
B32: Kapitálový požadavek podle hlavy III kapitoly 3 nařízení 2013/575/EU
B33: Kapitálový požadavek podle hlavy III kapitoly 4 nařízení 2013/575/EU
A34: V případě institucí, které počítají objem rizikově vážených expozic podle části třetí hlavy II kapitoly 3, 8 % objemu rizikově vážených expozic pro každou kategorii expozic uvedenou v článku 147. V případě kategorie retailových expozic se tento požadavek použije na každou kategorii expozic, které odpovídají různé korelace podle čl. 154 odst. 1 až 4 | B34: Expozice vůči ústředním vládám nebo centrálním bankám | C34: 0 | D34: 0 | E34: 0 | F34: 0 | G34: čl. 438 písm. d)
B35: Expozice vůči institucím | C35: 325552.62 | D35: 353940.13 | E35: 328676.81 | F35: 385842.9
B36: Expozice vůči podnikům | C36: 0 | D36: 0 | E36: 0 | F36: 0
B37: Retailové expozice | C37: 5387089.7 | D37: 5284809.9 | E37: 5256154.3 | F37: 5293728.8
B38: Akciové expozice | C38: 0 | D38: 0 | E38: 0 | F38: 0
B39: Položky představující sekuritizované pozice | C39: 0 | D39: 0 | E39: 0 | F39: 0
B40: Jiná aktiva nemající povahu úvěrového závazku | C40: 524778.21 | D40: 415445.39 | E40: 158007.16 | F40: 210352.41

Sheet Část 5
A1: Část 5
A2: Expozice vůči úvěrovému riziku protistrany
A4: Instituce zpřístupňují níže uvedené informace týkající se expozice instituce úvěrovému riziku protistrany uvedené v části třetí hlavě II kapitole 6 | D4: nařízení č. 575/2013/EU
A6: =Obsah!A3 -> Informace platné k datu | C6: =Obsah!C3 -> (30/6/2015)
A7: Diskuse metodiky použité pro přiřazení vnitřně stanoveného kapitálu a úvěrových limitů pro úvěrové expozice vůči protistraně | D7: čl. 439 písm. a)
D9: čl. 439 písm. a)
A24: Diskuse zásad zajištění kolaterálem a ustavení úvěrových rezerv | D24: čl. 439 písm. b)
D26: čl. 439 písm. b)
A41: Diskusi zásad týkajících se expozic rizika pozitivní korelace | D41: čl. 439 písm. c)
D43: čl. 439 písm. c)
A58: Diskuse dopadu výše kolaterálu, kterou by instituce musely poskytnout v případě snížení svého ratingu | D58: čl. 439 písm. d)
D60: čl. 439 písm. d)
A75: Hrubá kladná reálná hodnota smluv | D75: čl. 439 písm. e)
A76: Prospěch ze započtení
A77: Započtená současná úvěrová expozice
A78: Kolaterál v držení instituce a čistou úvěrovou expozici z derivátu, kde Čistá úvěrová expozice z derivátu je úvěrová expozice u derivátových transakcí po zohlednění prospěchu z právně vymahatelných dohod o započtení a opatření týkajících se kolaterálu
A79: Měření hodnoty expozice metodami stanovenými v části třetí hlavě II kapitole 6 oddílech 3 až 6, podle toho, která metoda se použije | D79: čl. 439 písm. f)
D85: čl. 439 písm. f)
A96: Pomyslná hodnota zajišťovacích operací s úvěrovými deriváty a rozdělení současné úvěrové expozice podle druhů úvěrové expozice | D96: čl. 439 písm. g)
A97: Druh expozice | C97: Pomyslná hodnota
D103: čl. 439 písm. g)
A113: Odhad α, pokud k němu instituce obdržela svolení příslušných orgánů | D113: čl. 439 písm. i)
A114: Pomyslné objemy úvěrových derivátových transakcí, odděleně podlepoužití pro vlastní úvěrové portfolio instituce a v rámci zprostředkovatelské činnosti včetně rozdělení použitých úvěrových derivátových produktů členěných dále podle | D114: čl. 439 písm. h)
A115: Skupina produktů | B115: Koupené zajištění | C115: Prodané zajištění
D121: čl. 439 písm. h)

Sheet Část 6
A1: Část 6
A2: Kapitálové rezervy
A3: Tuto část uveřejňují i významné dceřinné podniky na základě čl. 13 druhého pododst. nařízení č. 575/2013/EU
A4: Instituce zpřístupňuje níže uvedené informace týkající se dodržování požadavku na proticyklickou kapitálovou rezervu podle hlavy VII kapitoly 4 směrnice | D4: nařízení č. 575/2013/EU
A6: =Obsah!A3 -> Informace platné k datu
A7: Objem proticyklické kapitálové rezervy stanovené konkrétně pro danou instituci | D7: čl. 440 odst. 1 písm. b)
A8: Zeměpisné rozdělení svých úvěrových expozic relevantních pro výpočet proticyklické kapitálové rezervy | D8: čl. 440 odst. 1 písm. a)
A9: Zeměpisné rozdělení úvěrových expozic | C9: Expozice

Sheet Část 7
A1: Část 7
A2: Úpravy o úvěrové riziko I
A3: Tuto část uveřejňují i významné dceřinné podniky na z. čl. 13 druhého pododst. nařízení č. 575/2013/EU
A4: Instituce zpřístupňují níže uvedené informace týkající se expozice instituce úvěrovému riziku a riziku rozmělnění | G4: nařízení č. 575/2013/EU
A6: =Obsah!A3 -> Informace platné k datu
A7: Definice pojmu „po splatnosti“ pro účely účetnictví : | G7: čl. 442 písm. a)
A9: Definice pojmu „se sníženou hodnotou“ pro účely účetnictví :
A11: Popis přístupů a metod přijatých pro určení specifických a obecných úprav o úvěrové riziko: | G11: čl. 442 písm. b)
F30: Objem (v tis. Kč) | G30: čl. 442 písm. c)
A31: Celkový objem expozic po účetních kompenzacích a bez zohlednění účinků snižování úvěrového rizika
A32: STA Průměrný objem expozic za celé období v členění podle jednotlivých kategorií expozic
A33: Expozice vůči ústředním vládám nebo centrálním bankám
A34: Expozice vůči regionálním vládám nebo místním orgánům
A35: Expozice vůči subjektům veřejného sektoru
A36: Expozice vůči mezinárodním rozvojovým bankám
A37: Expozice vůči mezinárodním organizacím
A38: Expozice vůči institucím
A39: Expozice vůči podnikům
A40: Retailové expozice
A41: Expozice zajištěné nemovitostmi
A42: Expozice v selhání
... A56: Ostatní položky
A58: Zeměpisné rozdělení expozic, a to v členění ve významných oblastech podle podstatných kategorií expozic, případně s dalšími podrobnostmi | G58: čl. 442 písm. d)
A59: Zeměpisné rozdělení expozic (zde se uvede zeměpisná oblast) | C59: Objem (v tis. Kč) | D59: Členění ve významných oblastech podle podstatných kategorií expozic (zde se uvede kategorie expozice k oblasti uvedené ve sloupci A)* | E59: Objem (v tis. Kč) | F59: Další podrobnosti
A61: 1
A62: 2
A63: 3
A64: 4
A65: 5
G71: čl. 442 písm. d)
G81: čl. 442 písm. d)
G91: čl. 442 písm. d)
G101: čl. 442 písm. d)
A111: Rozdělení expozic podle odvětví nebo druhu protistrany, a to v členění podle kategorií expozic, včetně uvedení expozice vůči malým a středním podnikům, případně s dalšími podrobnostmi | G111: čl. 442 písm. e)
A112: Rozdělení expozic podle odvětví nebo druhu protistrany (zde se uvede odvětví/druh protistrany) | C112: Objem (v tis. Kč) | D112: Kategorie expozic (zde se uvede kategorie expozice k danému odvětví/druhu protistrany uvedém ve sloupci A)* | E112: Objem (v tis. Kč) | F112: Další podrobnosti
A114: 1
A115: 2
A116: 3
A117: 0
G124: čl. 442 písm. e)
...

Sheet Část 8
A1: Část 8 | B1: EBA Guidelines on unencumbered assets, EBA/GL/2014/03
A2: Nezatížená aktiva
A4: Nezatížená aktiva | H4: nařízení č. 575/2013/EU
A6: =Obsah!A3 -> Informace platné k datu
A7: Výkaz A-Aktiva | H7: čl. 443
D8: Účetní hodnota zatížených aktiv | E8: Reálná hodnota zatížených aktiv | F8: Účetní hodnota nezatížených aktiv | G8: Reálná hodnota nezatížených aktiv
D11: 010 | E11: 040 | F11: 060 | G11: 090
B12: 010 | C12: Aktiva vykazující instituce
B13: 030 | C13: Kapitálové nástroje
B14: 040 | C14: Dluhové cenné papíry
B15: 120 | C15: Ostatní aktiva
A18: Výkaz B-Přijaté zajištění (kolaterál)
D19: Reálná hodnota přijatého zatíženého zajištění nebo emitovaných vlastních dluhových cenných papírů | E19: Reálná hodnota přijatého zajištění nebo zatížitelných emitovaných vlastních dluhových cenných papírů
D22: 010 | E22: 040
B23: 130 | C23: Zajištění přijaté vykazující institucí
B24: 150 | C24: Kapitálové nástroje
B25: 160 | C25: Dluhové cenné papíry
B26: 230 | C26: Ostatní přijaté zajištění
B27: 240 | C27: Emitované vlastní dluhové cenné papíry jiné než kryté dluhopisy nebo cenné papíry kryté aktivy (ABS).
A30: Výkaz C-Zatížená aktiva/přijaté zajištění a související závazky
D31: Vyrovnávací závazky, podmíněné závazky nebo zapůjčené cenné papíry | E31: Aktiva, přijaté zajištění a emitované vlastní dluhové CP jiné než kryté dluhopisy a zatížené ABS
D33: 010 | E33: 030
B34: 010 | C34: Účetní hodnota vybraných finančních závazků
E37: Takto označená pole nevyplňujte.
A40: D- informace o významu zatížení

Sheet Část 9
A1: Část 9
A2: Použití externích ratingových agentur
A4: Použití externích ratingových agentur | E4: nařízení č. 575/2013/EU
A6: =Obsah!A3 -> Informace platné k datu | C6: =Obsah!C3 -> (30/6/2015)
A7: V případě institucí, které počítají objem rizikově vážených expozic podle části třetí hlavy II kapitoly 2, se za každou kategorii expozic uvedenou v článku 112 zpřístupňují tyto informace: | B7: Expozice vůči ústředním vládám nebo centrálním bankám | C7: Názvy určených externích ratingových agentur a exportních úvěrových agentur a důvody pro případné změny | E7: čl. 444 písm. a) - e)
C8: Kategorie expozic, pro které jsou jednotlivé externí ratingové agentury nebo exportní úvěrové agentury používány
C9: Popis postupu používaného k převodu úvěrových hodnocení emitenta a emise na položky, které nejsou součástí obchodního portfolia
C10: Přiřazení externího ratingu jednotlivých určených externích ratingových agentur nebo exportních úvěrových agentur stupňům úvěrové kvality stanoveným v části třetí hlavě II kapitole 2, přičemž tato informace nemusí být zpřístupněna, pokud instituce splňuje standardní způsob přiřazování zveřejněný orgánem EBA
C11: Hodnoty expozic a hodnoty expozic po snižování úvěrového rizika přiřazené jednotlivým stupňům úvěrové kvality předepsaným v části třetí hlavě II kapitole 2, jakož i ty, které byly odečteny od kapitálu
B12: Expozice vůči regionálním vládám nebo místním orgánům | C12: Názvy určených externích ratingových agentur a exportních úvěrových agentur a důvody pro případné změny | E12: čl. 444 písm. a) - e)
C13: Kategorie expozic, pro které jsou jednotlivé externí ratingové agentury nebo exportní úvěrové agentury používány
C14: Popis postupu používaného k převodu úvěrových hodnocení emitenta a emise na položky, které nejsou součástí obchodního portfolia
C15: Přiřazení externího ratingu jednotlivých určených externích ratingových agentur nebo exportních úvěrových agentur stupňům úvěrové kvality stanoveným v části třetí hlavě II kapitole 2, přičemž tato informace nemusí být zpřístupněna, pokud instituce splňuje standardní způsob přiřazování zveřejněný orgánem EBA
C16: Hodnoty expozic a hodnoty expozic po snižování úvěrového rizika přiřazené jednotlivým stupňům úvěrové kvality předepsaným v části třetí hlavě II kapitole 2, jakož i ty, které byly odečteny od kapitálu.
B17: Expozice vůči subjektům veřejného sektoru | C17: Názvy určených externích ratingových agentur a exportních úvěrových agentur a důvody pro případné změny | E17: čl. 444 písm. a) - e)
C18: Kategorie expozic, pro které jsou jednotlivé externí ratingové agentury nebo exportní úvěrové agentury používány
C19: Popis postupu používaného k převodu úvěrových hodnocení emitenta a emise na položky, které nejsou součástí obchodního portfolia
C20: Přiřazení externího ratingu jednotlivých určených externích ratingových agentur nebo exportních úvěrových agentur stupňům úvěrové kvality stanoveným v části třetí hlavě II kapitole 2, přičemž tato informace nemusí být zpřístupněna, pokud instituce splňuje standardní způsob přiřazování zveřejněný orgánem EBA
C21: Hodnoty expozic a hodnoty expozic po snižování úvěrového rizika přiřazené jednotlivým stupňům úvěrové kvality předepsaným v části třetí hlavě II kapitole 2, jakož i ty, které byly odečteny od kapitálu
B22: Expozice vůči mezinárodním rozvojovým bankám | C22: Názvy určených externích ratingových agentur a exportních úvěrových agentur a důvody pro případné změny | E22: čl. 444 písm. a) - e)
C23: Kategorie expozic, pro které jsou jednotlivé externí ratingové agentury nebo exportní úvěrové agentury používány
C24: Popis postupu používaného k převodu úvěrových hodnocení emitenta a emise na položky, které nejsou součástí obchodního portfolia
C25: Přiřazení externího ratingu jednotlivých určených externích ratingových agentur nebo exportních úvěrových agentur stupňům úvěrové kvality stanoveným v části třetí hlavě II kapitole 2, přičemž tato informace nemusí být zpřístupněna, pokud instituce splňuje standardní způsob přiřazování zveřejněný orgánem EBA
C26: Hodnoty expozic a hodnoty expozic po snižování úvěrového rizika přiřazené jednotlivým stupňům úvěrové kvality předepsaným v části třetí hlavě II kapitole 2, jakož i ty, které byly odečteny od kapitálu
B27: Expozice vůči mezinárodním organizacím | C27: Názvy určených externích ratingových agentur a exportních úvěrových agentur a důvody pro případné změny | E27: čl. 444 písm. a) - e)
C28: Kategorie expozic, pro které jsou jednotlivé externí ratingové agentury nebo exportní úvěrové agentury používány
C29: Popis postupu používaného k převodu úvěrových hodnocení emitenta a emise na položky, které nejsou součástí obchodního portfolia
C30: Přiřazení externího ratingu jednotlivých určených externích ratingových agentur nebo exportních úvěrových agentur stupňům úvěrové kvality stanoveným v části třetí hlavě II kapitole 2, přičemž tato informace nemusí být zpřístupněna, pokud instituce splňuje standardní způsob přiřazování zveřejněný orgánem EBA
C31: Hodnoty expozic a hodnoty expozic po snižování úvěrového rizika přiřazené jednotlivým stupňům úvěrové kvality předepsaným v části třetí hlavě II kapitole 2, jakož i ty, které byly odečteny od kapitálu
B32: Expozice vůči institucím | C32: Názvy určených externích ratingových agentur a exportních úvěrových agentur a důvody pro případné změny | E32: čl. 444 písm. a) - e)
C33: Kategorie expozic, pro které jsou jednotlivé externí ratingové agentury nebo exportní úvěrové agentury používány
C34: Popis postupu používaného k převodu úvěrových hodnocení emitenta a emise na položky, které nejsou součástí obchodního portfolia
C35: Přiřazení externího ratingu jednotlivých určených externích ratingových agentur nebo exportních úvěrových agentur stupňům úvěrové kvality stanoveným v části třetí hlavě II kapitole 2, přičemž tato informace nemusí být zpřístupněna, pokud instituce splňuje standardní způsob přiřazování zveřejněný orgánem EBA
C36: Hodnoty expozic a hodnoty expozic po snižování úvěrového rizika přiřazené jednotlivým stupňům úvěrové kvality předepsaným v části třetí hlavě II kapitole 2, jakož i ty, které byly odečteny od kapitálu.
A37: V případě institucí, které počítají objem rizikově vážených expozic podle části třetí hlavy II kapitoly 2, se za každou kategorii expozic uvedenou v článku 112 zpřístupňují tyto informace: | B37: Expozice vůči podnikům | C37: Názvy určených externích ratingových agentur a exportních úvěrových agentur a důvody pro případné změny | E37: čl. 444 písm. a) - e)
C38: Kategorie expozic, pro které jsou jednotlivé externí ratingové agentury nebo exportní úvěrové agentury používány
C39: Popis postupu používaného k převodu úvěrových hodnocení emitenta a emise na položky, které nejsou součástí obchodního portfolia
C40: Přiřazení externího ratingu jednotlivých určených externích ratingových agentur nebo exportních úvěrových agentur stupňům úvěrové kvality stanoveným v části třetí hlavě II kapitole 2, přičemž tato informace nemusí být zpřístupněna, pokud instituce splňuje standardní způsob přiřazování zveřejněný orgánem EBA
C41: Hodnoty expozic a hodnoty expozic po snižování úvěrového rizika přiřazené jednotlivým stupňům úvěrové kvality předepsaným v části třetí hlavě II kapitole 2, jakož i ty, které byly odečteny od kapitálu
B42: Expozice vůči podnikům | C42: Názvy určených externích ratingových agentur a exportních úvěrových agentur a důvody pro případné změny | E42: čl. 444 písm. a) - e)
...

Sheet Část 10
A1: Část 10
A2: Expozice vůči tržnímu riziku
A4: Expozice vůči tržnímu riziku | E4: nařízení č. 575/2013/EU
A6: =Obsah!A3 -> Informace platné k datu | C6: =Obsah!C3 -> (30/6/2015)
A7: Instituce, které počítají kapitálové požadavky podle čl. 92 odst. 3 písm. b) a c), zpřístupňují tyto požadavky odděleně pro jednotlivá rizika | B7: Požadavky na kapitál stanovené v souladu s částí třetí hlavou IV, případně částí čtvrtou, pro transakce zahrnuté do obchodního portfolia instituce | C7: Pro velké expozice přesahující limity stanovené v článcích 395 až 401, pokud je instituci povoleno tyto limity překročit | E7: čl. 445
C8: K pozičnímu riziku.
B9: Požadavky na kapitál stanovené v souladu s touto částí třetí hlavou IV, případně hlavou V, s výjimkou článku 379 | C9: K měnovému riziku
C10: K vypořádacímu riziku
C11: Ke komoditnímu riziku
A12: Kapitálový požadavek ke specifickému úrokovému riziku sekuritizovaných pozic

Sheet Část 11
A1: Část 11
A2: Operační riziko
A4: Operační riziko | D4: nařízení č. 575/2013/EU
A6: =Obsah!A3 -> Informace platné k datu | C6: =Obsah!C3 -> (30/6/2015)
A7: Přístupy používané danou institucí pro hodnocení kapitálových požadavků k operačnímu riziku | D7: čl. 446
D12: čl. 446
A19: Popis metodiky stanovené v čl. 312 odst. 2 CRR, pokud ji instituce používá | B19: Diskuse příslušných vnitřních a vnějších faktorů zohledněných v přístupu instituce k měření | C19: V případě dílčího používání rozsah a pokrytí jednotlivých metodik, které jsou používány | D19: čl. 446
D24: čl. 446

Sheet Část 12
A1: Část 12
A2: Akciové expozice nezahrnuté do obchodního portfolia
A4: Akciové expozice nezahrnuté do obchodního portfolia | D4: nařízení č. 575/2013/EU
A6: =Obsah!A3 -> Informace platné k datu | C6: =Obsah!C3 -> (30/6/2015)
A7: Rozlišení expozic na základě jejich cílů, včetně vztahu ke kapitálovým výnosům a strategických důvodů | D7: čl. 447 písm. a)
A28: Přehled použitých účetních technik a metod oceňování, včetně hlavních předpokladů a postupů ovlivňujících oceňování a jakýchkoliv významných změn v těchto postupech | D28: čl. 447 písm. a)
A44: Účetní hodnota | B44: Reálná hodnota | C44: Rozdíl mezi tržní a reálnou hodnotou akcií obchodovaných na regulovaných trzích, pokud se tržní hodnota podstatně liší od reálné hodnoty | D44: čl. 447 písm. b)
A60: Druh a povaha expozic | D60: čl. 447 písm. c)
D66: čl. 447 písm. c)
A76: Objemy expozic obchodovaných na regulovaných trzích | D76: čl. 447 písm. c)
A77: Akciové expozice neobchodované na regulovaných trzích v dostatečně diverzifikovaných portfoliích
A78: Jiné expozice
A79: Kumulativní výše realizovaných zisků nebo ztrát z prodeje a likvidace v daném období | D79: čl. 447 písm. d), e)
A80: Celková výše nerealizovaných zisků nebo ztrát
A81: Celková výše oceňovacích rozdílů

Sheet Část 13
A1: Část 13
A2: Expozice vůči úrokovému riziku u pozic nezahrnutých do obchodního portfolia
A4: Informace o expozici vůči úrokovému riziku u pozic nezahrnutých do obchodního portfolia | G4: nařízení č. 575/2013/EU
A6: =Obsah!A3 -> Informace platné k datu | F6: =Obsah!C3 -> (30/6/2015)
A7: Povaha úrokového rizika | D7: Hlavní předpoklady (včetně předpokladů ohledně předčasného splacení úvěrů a vývoj vkladů splatných na požádání) | F7: Četnost měření úrokového rizika | G7: čl. 448 písm. a)
G13: čl. 448 písm. a)
A23: Expozice vůči úrokovému riziku u pozic nezahrnutých do obchodního portfolia | B23: Kolísání zisků jako měřítko používané vedením k měření prudkých výkyvů úrokových sazeb směrem nahoru a dolů v souladu s metodou používanou vedením pro měření úrokového rizika, v členění podle měn | C23: Expozice vůči úrokovému riziku u pozic nezahrnutých do obchodního portfolia | D23: Ekonomická hodnota jako měřítko používané vedením k měření prudkých výkyvů úrokových sazeb směrem nahoru a dolů v souladu s metodou používanou vedením pro měření úrokového rizika, v členění podle měn | E23: Expozice vůči úrokovému riziku u pozic nezahrnutých do obchodního portfolia | F23: Jiné relevantní měřítko používané vedením k měření prudkých výkyvů úrokových sazeb směrem nahoru a dolů v souladu s metodou používanou vedením pro měření úrokového rizika, v členění podle měn | G23: čl. 448 písm. b)
B24: CHF | D24: CHF | F24: CHF
B25: EUR | D25: EUR | F25: EUR
B26: GBP | D26: GBP | F26: GBP
B27: USD | D27: USD | F27: USD
B28: Jiná | D28: Jiná | F28: Jiná
B29: Jiná | D29: Jiná | F29: Jiná | G29: čl. 448 písm. b)
B30: Jiná | D30: Jiná | F30: Jiná
B31: Jiná | D31: Jiná | F31: Jiná
B32: Jiná | D32: Jiná | F32: Jiná
B33: Jiná | D33: Jiná | F33: Jiná
B34: Jiná | D34: Jiná | F34: Jiná
B35: Jiná | D35: Jiná | F35: Jiná
B36: Jiná | D36: Jiná | F36: Jiná
B37: Jiná | D37: Jiná | F37: Jiná

Sheet Část 14
A1: Část 14
A2: Expozice vůči sekuritizovaným pozicím I
A4: Instituce, které počítají objem rizikově vážených expozic podle části třetí hlavy II kapitoly 5 nebo kapitálové požadavky podle článku 337 nebo 338, zpřístupňují tyto informace, v případě potřeby odděleně pro obchodní a investiční portfolio | G4: nařízení č. 575/2013/EU
A6: =Obsah!A3 -> Informace platné k datu | F6: =Obsah!C3 -> (30/6/2015)
A7: Popis cílů instituce v souvislosti se sekuritizací | G7: čl. 449 písm. a)
A13: Povaha ostatních rizik včetně rizika likvidity spojeného se sekuritizovanými aktivy | G13: čl. 449 písm. b)
A19: Druh rizik z hlediska nadřízenosti podkladových sekuritizovaných pozic | E19: Druh rizik z hlediska z hlediska podkladových aktiv těchto sekuritizovaných pozic převzatých a držených v resekuritizaci | G19: čl. 449 písm. c)
G25: čl. 449 písm. c)
A35: Jednotlivé role, které instituce hraje v procesu sekuritizace | E35: Přibližný rozsah působení instituce v jednotlivých rolích | G35: čl. 449 písm. (d), (e)
A41: Popis postupů pro sledování změn úvěrového a tržního rizika sekuritizovaných expozic včetně toho, jaké dopady na sekuritizované expozice má vývoj podkladových aktiv, a popis, jak se tyto postupy liší pro resekuritizované expozice | G41: čl. 449 písm. f)
G47: čl. 449 písm. f)
A52: Popis politiky instituce upravující používání zajištění a osobní zajištění ke snižování rizik držených sekuritizovaných a resekuritizovaných expozic | E52: Identifikace protistran, které jsou zdrojem podstatného zajištění podle druhu rizikové expozice | G52: čl. 449 písm. g)
E53: Protistrana | F53: Druh rizikové expozice
G59: čl. 449 písm. g)
A74: Přístupy k výpočtu objemu rizikově vážených expozic, které instituce používá v souvislosti se sekuritizací | E74: Které přístupy instituce používá v souvislosti se sekuritizací | F74: Pro jaký druh sekuritizované expozice | G74: čl. 449 písm. h)
G80: čl. 449 písm. h)
A90: Druhy sekuritizačních jednotek pro speciální účel, které instituce v roli sponzora používá k sekuritizaci expozic vůči třetím stranám | B90: Rozvahové expozice | D90: Podrozvahové expozice | F90: Seznam subjektů, které instituce řídí nebo jimž poskytuje poradenství a které investují buď do sekuritizovaných pozic, jež instituce sekuritizovala, nebo do sekuritizačních jednotek pro speciální účel, jež instituce sponzoruje | G90: čl. 449 písm. i)
B91: V jaké formě má instituce expozice vůči těmto sekuritizačním jednotkám pro speciální účel | C91: V jakém rozsahu má instituce expozice vůči těmto sekuritizačním jednotkám pro speciální účel | D91: V jaké formě má instituce expozice vůči těmto sekuritizačním jednotkám pro speciální účel | E91: V jakém rozsahu má instituce expozice vůči těmto sekuritizačním jednotkám pro speciální účel
G97: čl. 449 písm. i)
A122: Názvy externích ratingových agentur použitých pro sekuritizace | C122: Druhy expozic v členění podle jednotlivých použitých agentur | G122: čl. 449 písm. k)
C123: Druh expozic | E123: Použitá agentura
G129: čl. 449 písm. k)
A139: Popis metody interního hodnocení podle části třetí hlavy II kapitoly 5 oddílu 3 včetně struktury procesu interního hodnocení a vztahu mezi interním hodnocením a externím hodnocením, použití interního hodnocení pro jiné účely než pro stanovení kapitálového požadavku metodou interního hodnocení, kontrolních mechanismů pro proces interního hodnocení včetně diskuse nezávislosti, odpovědnosti a přezkumu procesu interního hodnocení, informace o druzích expozic, pro které se proces interního hodnocení použije, a o zátěžových faktorech použitých k určení úrovní úvěrového posílení podle druhu expozice | G139: čl. 449 písm. l)
G151: čl. 449 písm. l)
A161: Vysvětlení významných kvantitativních změn v informacích zpřístupněných podle písmen n) až q) od posledního vykazovaného období | G161: čl. 449 písm. m)
G172: čl. 449 písm. m)

Sheet Část 14a
A1: Část 14a
A2: Expozice vůči sekuritizovaným pozicím II
A4: Expozice vůči sekuritizovaným pozicím | G4: nařízení č. 575/2013/EU
A6: =Obsah!A3 -> Informace platné k datu | F6: =Obsah!C3 -> (30/6/2015)
A7: Shrnutí účetních metod instituce použitých pro sekuritizaci | G7: čl. 449 písm. j)
A13: Informace zda jsou transakce vykázány jako prodej nebo financování | G13: čl. 449 písm. (j) (i)
A19: Informace o uznání zisků z prodeje | G19: čl. 449 písm. j) (ii)
A25: Informace při ocenění sekuritizovaných pozic a příslušných změnách oproti předchozímu období o | G25: čl. 449 písm. j) (iii)
A26: Metodách ocenění | C26: Hlavních předpokladech | E26: Vstupech při ocenění sekuritizovaných pozic
G32: čl. 449 písm. j) (iii)
A42: Informace o zacházení se syntetickými sekuritizacemi, pokud se jím již nezabývají jiné účetní metody | G42: čl. 449 písm. j) (iv)
G48: čl. 449 písm. j) (iv)
A53: Informace o způsobech ocenění aktiv čekajících na sekuritizaci a o tom, zda jsou evidované | G53: čl. 449 písm. j) (v)
A54: V investičním portfoliu instituce | D54: V obchodním portfoliu instituce
A55: Aktivum | B55: Způsob ocenění | D55: Aktivum | E55: Způsob ocenění
G61: čl. 449 písm. j) (v)
A77: Informace o zásadách pro uznávání rozvahových závazků za ujednání, která by od instituce mohla vyžadovat poskytnutí finanční podpory pro sekuritizovaná aktiva | G77: čl. 449 písm. j) (vi)
G83: CRR 449 (j) (vi)

Sheet Část 14b
A1: Část 14b
A2: Expozice vůči sekuritizovaným pozicím III
A4: Expozice vůči sekuritizovaným pozicím | G4: nařízení č. 575/2013/EU
A6: =Obsah!A3 -> Informace platné k datu | E6: =Obsah!C3 -> (30/6/2015)
A7: Odděleně pro obchodní a investiční portfolio tyto informace, a to v členění podle druhu expozice | C7: Obchodní portflio | D7: Celkový objem nesplacených expozic sekuritizovaných institucí | E7: Tradiční sekuritizace | G7: čl. 449 písm. n)
E8: Syntetické sekuritizace
E9: V nichž je instituce pouze sponzorem
D10: Souhrnný objem ponechaných nebo nakoupených rozvahových sekuritizovaných pozic a podrozvahových sekuritizovaných expozic
D11: Souhrnný objem aktiv čekajících na sekuritizaci
D12: U sekuritizovaných facilit podléhajících předčasnému umoření souhrnný objem čerpaných expozic připadajících na podíl původce
D13: U sekuritizovaných facilit podléhajících předčasnému umoření souhrnný objem čerpaných investic připadajících na podíly investorů
D14: Souhrnné kapitálové požadavky vzniklé instituci vůči podílu původce
D15: Objem sekuritizovaných pozic, které byly odečteny od kapitálu nebo jimž byla přidělena riziková váha 1 250 %
D16: Shrnutí o sekuritizaci v běžném období včetně objemu sekuritizovaných expozic a uznaného zisku nebo ztráty z prodeje
D17: Souhrnné kapitálové požadavky vzniklé instituci vůči podílům investora na čerpaných zůstatcích a na nečerpaných úvěrových linkách
C18: Investiční portflio | D18: Celkový objem nesplacených expozic sekuritizovaných institucí | E18: Tradiční sekuritizace
E19: Syntetické sekuritizace
E20: V nichž je instituce pouze sponzorem
D21: Souhrnný objem ponechaných nebo nakoupených rozvahových sekuritizovaných pozic a podrozvahových sekuritizovaných expozic
D22: Souhrnný objem aktiv čekajících na sekuritizaci
D23: U sekuritizovaných facilit podléhajících předčasnému umoření souhrnný objem čerpaných expozic připadajících na podíl původce
D24: Usekuritizovaných facilit podléhajících předčasnému umoření souhrnný objem čerpaných investic připadajících na podíly investorů
D25: Souhrnné kapitálové požadavky vzniklé instituci vůči podílu původce
D26: Objem sekuritizovaných pozic, které byly odečteny od kapitálu nebo jimž byla přidělena riziková váha 1 250 %
D27: Shrnutí o sekuritizaci v běžném období včetně objemu sekuritizovaných expozic a uznaného zisku nebo ztráty z prodeje
D28: Souhrnné kapitálové požadavky vzniklé instituci vůči podílům investora na čerpaných zůstatcích a na nečerpaných úvěrových linkách
A29: Odděleně pro obchodní a investiční portfolio tyto informace, a to v členění podle druhu expozice | C29: Obchodní portflio | D29: Celkový objem nesplacených expozic sekuritizovaných institucí | E29: Tradiční sekuritizace | G29: čl. 449 písm. n)
E30: Syntetické sekuritizace
E31: V nichž je instituce pouze sponzorem
D32: Souhrnný objem ponechaných nebo nakoupených rozvahových sekuritizovaných pozic a podrozvahových sekuritizovaných expozic
D33: Souhrnný objem aktiv čekajících na sekuritizaci
D34: U sekuritizovaných facilit podléhajících předčasnému umoření souhrnný objem čerpaných expozic připadajících na podíl původce
D35: U sekuritizovaných facilit podléhajících předčasnému umoření souhrnný objem čerpaných investic připadajících na podíly investorů
D36: Souhrnné kapitálové požadavky vzniklé instituci vůči podílu původce
D37: Objem sekuritizovaných pozic, které byly odečteny od kapitálu nebo jimž byla přidělena riziková váha 1 250 %
