Workbook
Name Print_Area: 'KONSOL. CELEK'!$B$1:$L$95

Sheet ORGANIZAČ. STRUKTURA
B32: Počet zaměstnanců - přepočtený stav za období leden až prosinec 2010: 423
B33: Počet organizačních jednotek: ústředí + 13 regionálních poboček

Sheet KONSOL. CELEK
B1: Československá obchodní banka, a. s.
B2: IČ: 00001350
B4: SCHÉMA KONSOLIDAČNÍHO CELKU ČSOB K 31.12.2010 | K4: Příloha č. 4
B5: nad nímž ČNB vykonává dohled na konsolidovaném základě
E8: ČSOB penzijní fond Stabilita, a.s., člen skupiny ČSOB
E9: Podíl na ZK přímý: | F9: 1
E10: Podíl na hlas. právech: | F10: 1
E12: ČSOB penzijní fond Progres, a.s., člen skupiny ČSOB
E13: Podíl na ZK přímý: | F13: 1
E14: Podíl na hlas. právech: | F14: 1
H15: ČSOB Leasing pojišťovací makléř, s.r.o.
D16: Podíl na ZK 100% | E16: ČSOB Leasing, a.s. | G16: Podíl na ZK 100%
D17: Podíl na HP 50,82% | E17: Podíl na ZK přímý: | F17: 1 | H17: Podíl na ZK nepřímý: | I17: 1
E18: Podíl na hlas. právech: | F18: 0.5082 | G18: Podíl na HP 100% | H18: Podíl na hlas. právech: | I18: 1
D20: Podíl na ZK 100% | E20: ČSOB Factoring, a.s. | G20: Podíl na ZK 100% | H20: Eurincasso, s.r.o.
D21: Podíl na HP 100% | E21: Podíl na ZK přímý: | F21: 1 | H21: Podíl na ZK nepřímý: | I21: 1
E22: Podíl na hlas. právech: | F22: 1 | G22: Podíl na HP 100% | H22: Podíl na hlas. právech: | I22: 1
E24: Centrum Radlická, a.s.
E25: Podíl na ZK přímý: | F25: 1
E26: Podíl na hlas. právech: | F26: 1
E28: Bankovní informační technologie, s.r.o.
E29: Podíl na ZK přímý: | F29: 1
B30: Československá obchodní banka, a. s. | E30: Podíl na hlas. právech: | F30: 1
E32: Českomoravská stavební spořitelna, a.s.
E33: Podíl na ZK přímý: | F33: 0.55
E34: Podíl na hlas. právech: | F34: 0.55
E36: Hypoteční banka, a.s.
E37: Podíl na ZK přímý: | F37: 1
E38: Podíl na hlas. právech: | F38: 1
E40: Motokov, a.s. v likvidaci
D41: Podíl na ZK 0,50% | E41: Podíl na ZK přímý: | F41: 0.005
D42: Podíl na HP 0,50% | E42: Podíl na ZK nepřímý: | F42: 0.6959
E43: Podíl na hlas. právech: | F43: 0.7009
E44: Podíl na ZK 69,59% | F44: Podíl na HP 69,59%
E45: ČSOB Investment Banking Services, a.s., člen skupiny ČSOB | H45: Motokov International, a.s. v likvidaci
D46: Podíl na ZK 100% | G46: Podíl na ZK 94,91%
D47: Podíl na HP 100% | E47: Podíl na ZK přímý: | F47: 1 | H47: Podíl na ZK nepřímý: | I47: 0.9491
E48: Podíl na hlas. právech: | F48: 1 | G48: Podíl na HP 94,91% | H48: Podíl na hlas. právech: | I48: 0.9491
E49: Podíl na ZK 16,62% | F49: Podíl na HP 16,62%
E50: IP Exit, a.s.
...

Sheet ROZVAHA
F1: Příloha č. 4
A3: ROZVAHA
A4: tis. Kč
A7: AKTIVA | B7: č.ř. | C7: 40543 | D7: 40451 | E7: 40359 | F7: 40268
A8: Aktiva celkem | B8: 1 | C8: 1.6324322e+11 | D8: 1.6231877e+11 | E8: 1.6768036e+11 | F8: 1.6830623e+11
A9: Pokladní hotovost a pohledávky vůči centrálním bankám | B9: 2 | C9: 20726253 | D9: 22328993 | E9: 3.1703122e+08 | F9: 22845460
A10: Pokladní hotovost | B10: 3 | C10: 0 | D10: 0 | E10: 0 | F10: 0
A11: Pohledávky vůči centrálním bankám | B11: 4 | C11: 20726253 | D11: 22328993 | E11: 3.1703122e+08 | F11: 22845460
A12: Finanční aktiva k obchodování | B12: 5 | C12: 0 | D12: 0 | E12: 0 | F12: 0
A13: Deriváty k obchodování s kladnou reálnou hodnotou | B13: 6 | C13: 0 | D13: 0 | E13: 0 | F13: 0
A14: Kapitálové nástroje k obchodování | B14: 7 | C14: 0 | D14: 0 | E14: 0 | F14: 0
A15: Dluhové cenné papíry k obchodování | B15: 8 | C15: 0 | D15: 0 | E15: 0 | F15: 0
A16: Pohledávky k obchodování | B16: 9 | C16: 0 | D16: 0 | E16: 0 | F16: 0
A17: Pohledávky k obchodování vůči úvěrovým institucím | B17: 10 | C17: 0 | D17: 0 | E17: 0 | F17: 0
A18: Pohledávky k obchodování vůči j. osobám než úvěr. institucím | B18: 11 | C18: 0 | D18: 0 | E18: 0 | F18: 0
A19: Ostatní pohledávky k obchod. sektorově nečleněné | B19: 12 | C19: 0 | D19: 0 | E19: 0 | F19: 0
... A64: Neoběžná aktiva a vyřazované skupiny určené k prodeji | B64: 57 | C64: 0 | D64: 0 | E64: 0 | F64: 0
A69: PASIVA | B69: č.ř. | C69: 40543 | D69: 40451 | E69: 40359 | F69: 40268
A70: Závazky a vlastní kapitál celkem | B70: 1 | C70: 1.6324322e+11 | D70: 1.6231877e+11 | E70: 1.6768036e+11 | F70: 1.6830623e+11
A71: Závazky celkem | B71: 2 | C71: 1.4215797e+11 | D71: 1.4188561e+11 | E71: 1.4768454e+11 | F71: 1.4742193e+11
A72: Vklady, úvěry a ostatní finanční závazky vůči centr.bankám | B72: 3 | C72: 0 | D72: 0 | E72: 0 | F72: 0
A73: Finanční závazky k obchodování | B73: 4 | C73: 0 | D73: 0 | E73: 0 | F73: 0
A74: Deriváty k obchodování se zápornou reálnou hodnotou | B74: 5 | C74: 0 | D74: 0 | E74: 0 | F74: 0
A75: Závazky z krátkých prodejů | B75: 6 | C75: 0 | D75: 0 | E75: 0 | F75: 0
A76: Vklady, úvěry a ostatní finanční závazky k obchodování | B76: 7 | C76: 0 | D76: 0 | E76: 0 | F76: 0
A77: Vklady, úvěry a ostatní fin.závazky k obch. vůči úvěr.inst. | B77: 8 | C77: 0 | D77: 0 | E77: 0 | F77: 0
A78: Vklady, úvěry a ost.fin.závaz.k obch.vůči j.os.než úvěr.inst | B78: 9 | C78: 0 | D78: 0 | E78: 0 | F78: 0
A79: Ostatní finanční závazky k obchodování sektorově nečleněné | B79: 10 | C79: 0 | D79: 0 | E79: 0 | F79: 0
A80: Emitované dluhové CP určené k odkupu v krátkém období | B80: 11 | C80: 0 | D80: 0 | E80: 0 | F80: 0
A81: Finanční závazky v reálné hodnotě vykázané do zisku/ztráty | B81: 12 | C81: 0 | D81: 0 | E81: 0 | F81: 0
... A113: Ostatní závazky | B113: 44 | C113: 1.7661473e+08 | D113: 2.6400729e+08 | E113: 2.9790407e+08 | F113: 2.2874747e+08
A114: Základní kapitál družstev splatný na požádání | B114: 45 | C114: XX | D114: XX | E114: XX | F114: XX
A115: Závazky spojené s vyřazovanými skupinami určenými k prodeji | B115: 46 | C115: 0 | D115: 0 | E115: 0 | F115: 0
A116: Vlastní kapitál celkem | B116: 47 | C116: 2.1085253e+10 | D116: 2.0433163e+10 | E116: 1.9995823e+10 | F116: 2.0884302e+10
A117: Základní kapitál | B117: 48 | C117: 5076331000 | D117: 5076331000 | E117: 5076331000 | F117: 5076331000
A118: Splacený základní kapitál | B118: 49 | C118: 5076331000 | D118: 5076331000 | E118: 5076331000 | F118: 5076331000
A119: Nesplacený základní kapitál | B119: 50 | C119: 0 | D119: 0 | E119: 0 | F119: 0
A120: Emisní ážio | B120: 51 | C120: 13864383900 | D120: 13864383900 | E120: 13864383900 | F120: 13864383900
A121: Další vlastní kapitál | B121: 52 | C121: 0 | D121: 0 | E121: 0 | F121: 0
A122: Kapitálová složka finančních nástrojů | B122: 53 | C122: 0 | D122: 0 | E122: 0 | F122: 0
...

Sheet VÝSLEDOVKA
F1: Příloha č. 4
A3: VÝSLEDOVKA
A4: tis. Kč
B7: č.ř. | C7: 40543 | D7: 40451 | E7: 40359 | F7: 40268
A8: Zisk z finanční a provozní činnosti | B8: 1 | C8: 4.0550557e+09 | D8: 2.9271788e+09 | E8: 1.8748103e+09 | F8: 883854622
A9: Úrokové výnosy | B9: 2 | C9: 8.6473113e+09 | D9: 6.4646571e+09 | E9: 4.2796606e+09 | F9: 2.1071833e+09
A10: Úroky z pohledávek vůči centrálním bankám | B10: 3 | C10: 83201.27 | D10: 65649.62 | E10: 47721.29 | F10: 25485.06
A11: Úroky z finančních aktiv k obchodování | B11: 4
A12: Úroky z finančních aktiv v reálné hodnotě vykázaných do Z/Z | B12: 5
A13: Úroky z realizovatelných finančních aktiv | B13: 6 | C13: 2436562.1 | D13: 2436562.1 | E13: 2436562.1 | F13: 2436562.1
A14: Úroky z úvěrů a jiných pohledávek | B14: 7 | C14: 8.6389085e+09 | D14: 6.4562719e+09 | E14: 4.2712933e+09 | F14: 2.0995854e+09
A15: Úroky z finančních investic držených do splatnosti | B15: 8 | C15: 5883027.1 | D15: 5883027.1 | E15: 5883027.1 | F15: 5135840.9
A16: Zisk ze zajišťovacích úrokových derivátů | B16: 9
A17: Úroky z ostatních aktiv | B17: 10
A18: Úrokové náklady | B18: 11 | C18: -4.9857089e+09 | D18: -3.8278909e+09 | E18: -2.60417e+09 | F18: -1.3266033e+09
A19: Úroky na vklady, úvěry a ost.fin.závazky vůči centr.bankám | B19: 12 | C19: 0 | D19: 0 | E19: 0 | F19: 0
A20: Úroky na finanční závazky k obchodování | B20: 13
A21: Úroky na finanční závazky v reálné hodnotě vykázané do Z/Z | B21: 14
A22: Úroky na finanční závazky v naběhlé hodnotě | B22: 15 | C22: -4.9857089e+09 | D22: -3.8278909e+09 | E22: -2.60417e+09 | F22: -1.3266033e+09
A23: Ztráta ze zajišťovacích úrokových derivátů | B23: 16
A24: Úroky na ostatní závazky | B24: 17
A25: Náklady na základní kapitál splatný na požádání | B25: 18
A26: Výnosy z dividend | B26: 19 | C26: 0 | D26: 0 | E26: 0 | F26: 0
A27: Výnosy z dividend z finančních aktiv k obchodování | B27: 20
A28: Výnosy z dividend z finan.aktiv v RH vykázaných do Z/Z | B28: 21
A29: Výnosy z dividend z realizovatelných finančních aktiv | B29: 22
A30: Výnosy z dividend od přidružených a ovládaných osob | B30: 23
A31: Výnosy z poplatků a provizí | B31: 24 | C31: 4.0753031e+08 | D31: 2.9910925e+08 | E31: 1.9856157e+08 | F31: 1.0124131e+08
A32: Poplatky a provize z operací s finan.nástroji pro zákazníky | B32: 25 | C32: 4.0024155e+08 | D32: 2.9433292e+08 | E32: 1.9563565e+08 | F32: 1.0012177e+08
A33: Poplatky a provize z obstarání emisí | B33: 26
A34: Poplatky a provize z obstarání finančních nástrojů | B34: 27 | C34: 4.0024155e+08 | D34: 2.9433292e+08 | E34: 1.9563565e+08 | F34: 1.0012177e+08
A35: Poplatky a provize za poradenskou činnost | B35: 28
A36: Poplatky a provize z clearingu a vypořádání | B36: 29
A37: Poplatky a provize za obhospodařování hodnot | B37: 30
A38: Poplatky a provize za správu, úschovu a uložení hodnot | B38: 31
A39: Poplatky a provize z příslibů a záruk | B39: 32
A40: Poplatky a provize z platebního styku | B40: 33
A41: Poplatky a provize ze strukturovaného financování | B41: 34
A42: Poplatky a provize ze sekuritizace | B42: 35
A43: Poplatky a provize z ostatních služeb | B43: 36 | C43: 7288762.4 | D43: 4720548.6 | E43: 2925925.9 | F43: 1119539.7
...

Sheet POHL_SELHÁNÍ
H1: Příloha č. 4
A3: Pohledávky z finanční činnosti bez selhání a v selhání
A5: 40543
H7: v tis. Kč
B8: Č.ř. | C8: Hodnota před znehodnocením | D8: Účetní hodnota (netto) | E8: Opravné položky k jednotlivým pohledávkám | F8: Opravné položky k port. pohled. jednotlivě bez znehodnocení | G8: Opravné položky k portfoliu jednotlivě nevýznam. pohledávek | H8: Kumulovaná ztráta z ocenění reálnou hodnotou
A9: Pohledávky z finančních činností celkem | B9: 1 | C9: 1.4692744e+08 | D9: 1.4507071e+08 | E9: 1856726.2 | F9: 0 | G9: 0 | H9: 0
A10: Pohledávky za úvěrovými institucemi | B10: 2 | C10: 0 | D10: 0 | E10: 0 | F10: 0 | G10: 0 | H10: 0 | I10: ř. 30
A11: Pohledávky za úvěrovými institucemi bez selhání | B11: 3 | C11: 0 | D11: 0 | E11: 0 | F11: 0 | G11: 0 | H11: 0
A12: Standardní pohledávky za úvěrovými institucemi | B12: 4 | C12: 0 | D12: 0 | E12: 0 | F12: 0 | G12: 0 | H12: 0
A13: Sledované pohledávky za úvěrovými institucemi | B13: 5 | C13: 0 | D13: 0 | E13: 0 | F13: 0 | G13: 0 | H13: 0
A14: Pohledávky za úvěrovými institucemi se selháním | B14: 6 | C14: 0 | D14: 0 | E14: 0 | F14: 0 | G14: 0 | H14: 0
A15: Nestandardní pohledávky za úvěrovými institucemi | B15: 7 | C15: 0 | D15: 0 | E15: 0 | F15: 0 | G15: 0 | H15: 0
A16: Pochybné pohledávky za úvěrovými institucemi | B16: 8 | C16: 0 | D16: 0 | E16: 0 | F16: 0 | G16: 0 | H16: 0
A17: Ztrátové pohledávky za úvěrovými institucemi | B17: 9 | C17: 0 | D17: 0 | E17: 0 | F17: 0 | G17: 0 | H17: 0
A18: Pohledávky za jinými osobami než úvěr.institucemi | B18: 10 | C18: 1.4692744e+08 | D18: 1.4507071e+08 | E18: 1856726.2 | F18: 0 | G18: 0 | H18: 0 | I18: ř. 31
A19: Pohledávky za j. osobami než úvěr.institucemi bez selhání | B19: 11 | C19: 1.4134368e+08 | D19: 1.4105749e+08 | E19: 286185.62 | F19: 0 | G19: 0 | H19: 0
A20: Standardní pohledávky za jinými osobami než úvěr.institucemi | B20: 12 | C20: 1.380081e+08 | D20: 1.380081e+08 | E20: 0 | F20: 0 | G20: 0 | H20: 0
A21: Sledované pohledávky za jin. osobami než úvěr.institucemi | B21: 13 | C21: 3335572 | D21: 3049386.4 | E21: 286185.62 | F21: 0 | G21: 0 | H21: 0
A22: Pohledávky za jin. osobami než úvěr.institucemi se selháním | B22: 14 | C22: 5583765 | D22: 4013224.4 | E22: 1570540.6 | F22: 0 | G22: 0 | H22: 0
A23: Nestandardní pohledávky za jin. osobami než úvěr.institucemi | B23: 15 | C23: 1632684.6 | D23: 1340611 | E23: 292073.58 | F23: 0 | G23: 0 | H23: 0
A24: Pochybné pohledávky za jinými osobami než úvěr.institucemi | B24: 16 | C24: 1390085.7 | D24: 1108532.3 | E24: 281553.45 | F24: 0 | G24: 0 | H24: 0
A25: Ztrátové pohledávky za jinými osobami než úvěr.institucemi | B25: 17 | C25: 2560994.7 | D25: 1564081.1 | E25: 996913.6 | F25: 0 | G25: 0 | H25: 0
A28: 40451
H30: v tis. Kč
B31: Č.ř. | C31: Hodnota před znehodnocením | D31: Účetní hodnota (netto) | E31: Opravné položky k jednotlivým pohledávkám | F31: Opravné položky k port. pohled. jednotlivě bez znehodnocení | G31: Opravné položky k portfoliu jednotlivě nevýznam. pohledávek | H31: Kumulovaná ztráta z ocenění reálnou hodnotou
A32: Pohledávky z finančních činností celkem | B32: 1 | C32: 1.6376034e+08 | D32: 1.6204326e+08 | E32: 1717080.2 | F32: 0 | G32: 0 | H32: 0
A33: Pohledávky za úvěrovými institucemi | B33: 2 | C33: 20298822 | D33: 20298822 | E33: 0 | F33: 0 | G33: 0 | H33: 0 | I33: ř. 30
A34: Pohledávky za úvěrovými institucemi bez selhání | B34: 3 | C34: 20298822 | D34: 20298822 | E34: 0 | F34: 0 | G34: 0 | H34: 0
A35: Standardní pohledávky za úvěrovými institucemi | B35: 4 | C35: 20298822 | D35: 20298822 | E35: 0 | F35: 0 | G35: 0 | H35: 0
A36: Sledované pohledávky za úvěrovými institucemi | B36: 5 | C36: 0 | D36: 0 | E36: 0 | F36: 0 | G36: 0 | H36: 0
A37: Pohledávky za úvěrovými institucemi se selháním | B37: 6 | C37: 0 | D37: 0 | E37: 0 | F37: 0 | G37: 0 | H37: 0
A38: Nestandardní pohledávky za úvěrovými institucemi | B38: 7 | C38: 0 | D38: 0 | E38: 0 | F38: 0 | G38: 0 | H38: 0
A39: Pochybné pohledávky za úvěrovými institucemi | B39: 8 | C39: 0 | D39: 0 | E39: 0 | F39: 0 | G39: 0 | H39: 0
A40: Ztrátové pohledávky za úvěrovými institucemi | B40: 9 | C40: 0 | D40: 0 | E40: 0 | F40: 0 | G40: 0 | H40: 0
A41: Pohledávky za jinými osobami než úvěr.institucemi | B41: 10 | C41: 1.4346152e+08 | D41: 1.4174444e+08 | E41: 1717080.2 | F41: 0 | G41: 0 | H41: 0 | I41: ř. 31
A42: Pohledávky za j. osobami než úvěr.institucemi bez selhání | B42: 11 | C42: 1.3790696e+08 | D42: 1.3762698e+08 | E42: 279980.87 | F42: 0 | G42: 0 | H42: 0
A43: Standardní pohledávky za jinými osobami než úvěr.institucemi | B43: 12 | C43: 1.3442661e+08 | D43: 1.3442661e+08 | E43: 0 | F43: 0 | G43: 0 | H43: 0
A44: Sledované pohledávky za jin. osobami než úvěr.institucemi | B44: 13 | C44: 3480354.1 | D44: 3200373.3 | E44: 279980.87 | F44: 0 | G44: 0 | H44: 0
A45: Pohledávky za jin. osobami než úvěr.institucemi se selháním | B45: 14 | C45: 5554555.7 | D45: 4117456.4 | E45: 1437099.3 | F45: 0 | G45: 0 | H45: 0
A46: Nestandardní pohledávky za jin. osobami než úvěr.institucemi | B46: 15 | C46: 1927967.3 | D46: 1599367.8 | E46: 328599.49 | F46: 0 | G46: 0 | H46: 0
...

Sheet POHL_ZNEHODNOCENÍ
H1: Příloha č. 4
A3: Pohledávky z finanční činnosti bez znehodnocení a se znehodnocením
A5: =POHL_SELHÁNÍ!A5 -> 40543
H7: v tis. Kč
B9: Č.ř. | C9: Hodnota před znehodnocením | E9: Opravné položky | F9: Kumulovaná ztráta | G9: Účetní hodnota (netto)
F10: z ocenění
F11: reálnou hodnotou
C13: Pohledávky oceňované naběhlou hodnotou | D13: Pohledávky oceňované | E13: Pohledávky oceňované naběhlou hodnotou | F13: Pohledávky oceňované | G13: Pohledávky oceňované naběhlou hodnotou | H13: Pohledávky oceňované
D14: reálnou hodnotou | F14: reálnou hodnotou | H14: reálnou hodnotou
A15: Pohledávky bez znehodnocení | B15: 1 | C15: =POHL_SELHÁNÍ!C20+POHL_SELHÁNÍ!C12 -> 1.380081e+08 | D15: 0 | E15: X | F15: X | G15: =C15 -> 1.380081e+08 | H15: 0
A16: Pohledávky se znehodnocením | B16: 2 | C16: =POHL_SELHÁNÍ!C22+POHL_SELHÁNÍ!C21 -> 8919337.1 | D16: 0 | E16: =POHL_SELHÁNÍ!E9 -> 1856726.2 | F16: 0 | G16: =C16-E16 -> 7062610.8 | H16: 0
A19: =POHL_SELHÁNÍ!A28 -> 40451
H21: v tis. Kč
B23: Č.ř. | C23: Hodnota před znehodnocením | E23: Opravné položky | F23: Kumulovaná ztráta | G23: Účetní hodnota (netto)
F24: z ocenění
F25: reálnou hodnotou
C27: Pohledávky oceňované naběhlou hodnotou | D27: Pohledávky oceňované | E27: Pohledávky oceňované naběhlou hodnotou | F27: Pohledávky oceňované | G27: Pohledávky oceňované naběhlou hodnotou | H27: Pohledávky oceňované
D28: reálnou hodnotou | F28: reálnou hodnotou | H28: reálnou hodnotou
A29: Pohledávky bez znehodnocení | B29: 1 | C29: =POHL_SELHÁNÍ!C43+POHL_SELHÁNÍ!C33 -> 1.5472543e+08 | D29: 0 | E29: X | F29: X | G29: =C29 -> 1.5472543e+08 | H29: 0
A30: Pohledávky se znehodnocením | B30: 2 | C30: =POHL_SELHÁNÍ!C45+POHL_SELHÁNÍ!C44 -> 9034909.8 | D30: 0 | E30: =POHL_SELHÁNÍ!E32 -> 1717080.2 | F30: 0 | G30: =C30-E30 -> 7317829.7 | H30: 0
A33: =POHL_SELHÁNÍ!A51 -> 40359
H35: v tis. Kč
B37: Č.ř. | C37: Hodnota před znehodnocením | E37: Opravné položky | F37: Kumulovaná ztráta | G37: Účetní hodnota (netto)
F38: z ocenění
F39: reálnou hodnotou
C41: Pohledávky oceňované naběhlou hodnotou | D41: Pohledávky oceňované | E41: Pohledávky oceňované naběhlou hodnotou | F41: Pohledávky oceňované | G41: Pohledávky oceňované naběhlou hodnotou | H41: Pohledávky oceňované
D42: reálnou hodnotou | F42: reálnou hodnotou | H42: reálnou hodnotou
A43: Pohledávky bez znehodnocení | B43: 1 | C43: =POHL_SELHÁNÍ!C58+POHL_SELHÁNÍ!C66 -> 1.6022767e+08 | D43: 0 | E43: X | F43: X | G43: =C43 -> 1.6022767e+08 | H43: 0
A44: Pohledávky se znehodnocením | B44: 2 | C44: =POHL_SELHÁNÍ!C59+POHL_SELHÁNÍ!C67+POHL_SELHÁNÍ!C68 -> 8282922.1 | D44: 0 | E44: =POHL_SELHÁNÍ!E55 -> 1396880.9 | F44: 0 | G44: =C44-E44 -> 6886041.2 | H44: 0
A47: =POHL_SELHÁNÍ!A74 -> 40268
H49: v tis. Kč
B51: Č.ř. | C51: Hodnota před znehodnocením | E51: Opravné položky | F51: Kumulovaná ztráta | G51: Účetní hodnota (netto)
F52: z ocenění
F53: reálnou hodnotou
C55: Pohledávky oceňované naběhlou hodnotou | D55: Pohledávky oceňované | E55: Pohledávky oceňované naběhlou hodnotou | F55: Pohledávky oceňované | G55: Pohledávky oceňované naběhlou hodnotou | H55: Pohledávky oceňované
D56: reálnou hodnotou | F56: reálnou hodnotou | H56: reálnou hodnotou
A57: Pohledávky bez znehodnocení | B57: 1 | C57: =POHL_SELHÁNÍ!C81+POHL_SELHÁNÍ!C89 -> 1.6103623e+08 | D57: 0 | E57: X | F57: X | G57: =C57 -> 1.6103623e+08 | H57: 0
A58: Pohledávky se znehodnocením | B58: 2 | C58: =POHL_SELHÁNÍ!C82+POHL_SELHÁNÍ!C83+POHL_SELHÁNÍ!C90+POHL_SELHÁNÍ!C91 -> 7708848.4 | D58: 0 | E58: =POHL_SELHÁNÍ!E78 -> 1124471.6 | F58: 0 | G58: =C58-E58 -> 6584376.8 | H58: 0

Sheet POHL_RESTRUKTURALIZACE
H1: Příloha č. 4
A3: Restrukturalizované pohledávky
A4: v tis. Kč
D7: Č.ř. | E7: 40543 | F7: 40451 | G7: 40359 | H7: 40268
A8: Restrukturalizované pohledávky | D8: 1 | E8: 1814926 | F8: 1612763.2 | G8: 1418739 | H8: 1209262.7
A9: Pohledávky oceňované naběhlou hodnotou | D9: 2
A10: Pohledávky oceňované reálné hodnotou | D10: 3 | E10: 0 | F10: 0 | G10: 0 | H10: 0

Sheet DERIVÁTY
F1: Příloha č. 4
A3: Deriváty
A4: v tis. Kč
B7: Č.ř. | C7: 40543 | D7: 40451 | E7: 40359 | F7: 40268
A8: Deriváty k obchodování - aktiva | B8: 1 | C8: 0 | D8: 0 | E8: 0 | F8: 0
A9: Reálná hodnota | B9: 2 | C9: 0 | D9: 0 | E9: 0 | F9: 0
A10: Jmenovitá hodnota | B10: 3 | C10: 0 | D10: 0 | E10: 0 | F10: 0
A11: Deriváty k obchodování - závazky | B11: 4 | C11: 0 | D11: 0 | E11: 0 | F11: 0
A12: Reálná hodnota | B12: 5 | C12: 0 | D12: 0 | E12: 0 | F12: 0
A13: Jmenovitá hodnota | B13: 6 | C13: 0 | D13: 0 | E13: 0 | F13: 0
A14: Deriváty zajišťovací - aktiva | B14: 7 | C14: 0 | D14: 0 | E14: 0 | F14: 0
A15: Reálná hodnota | B15: 8 | C15: 0 | D15: 0 | E15: 0 | F15: 0
A16: Jmenovitá hodnota | B16: 9 | C16: 0 | D16: 0 | E16: 0 | F16: 0
A17: Deriváty zajišťovací - závazky | B17: 10 | C17: 0 | D17: 0 | E17: 0 | F17: 0
A18: Reálná hodnota | B18: 11 | C18: 0 | D18: 0 | E18: 0 | F18: 0
A19: Jmenovitá hodnota | B19: 12 | C19: 0 | D19: 0 | E19: 0 | F19: 0
A22: Hypoteční banka neprovádí derivátové operace

Sheet POMĚROVÉ UKAZATELE
F1: Příloha č. 4
A3: Poměrové ukazatele
C6: 40543 | D6: 40451 | E6: 40359 | F6: 40268
A7: a) | B7: Kapitálová přiměřenost (%) | C7: 38.897575 | D7: 40.338624 | E7: 31.030951 | F7: 39.717302
A8: b) | B8: Rentabilita průměrných aktiv ROAA (%) | C8: 1.1203265 | D8: 0.9640967 | E8: 0.91349646 | F8: 0.79195725
A9: c) | B9: Rentabilita průměrného vlastního kapitálu ROAE (%) | C9: 9.6401424 | D9: 8.3201589 | E9: 7.920262 | F9: 6.8408904
A10: d) | B10: Aktiva na jednoho zaměstnance (tis. Kč) | C10: 382302.62 | D10: 381029.98 | E10: 397346.83 | F10: 398829.93
A11: e) | B11: Správní náklady na jednoho zaměstnance (tis. Kč) | C11: 1461.2738 | D11: 1450.9646 | E11: 1516.5781 | F11: 1554.541
A12: f) | B12: Čistý zisk na jednoho zaměstnance (tis. Kč) | C12: 4327.3566 | D12: 3742.3824 | E12: 3594.0824 | F12: 3099.3806

Sheet KAPITÁL
F1: Příloha č. 5
A2: Údaje o plnění pravidel obezřetného podnikání Hypoteční banky na individuálním základě
A4: 1. | B4: Údaje o kapitálu
B5: K 31.12.2010 činil základní kapitál Hypoteční banky 5 076 328 000 Kč a byl rozdělen do 10 152 656 kusů kmenových akcií o jmenovité hodnotě jedné akcie 500 Kč. Tyto akcie jsou zaknihované, kótované cenné papíry a znějí na majitele. Základní kapitál je plně splacen. Hypoteční banka nevydala žádné prioritní nebo zaměstnanecké akcie, ani dluhopisy, s nimiž je spojeno právo požadovat v době v nich určené vydání akcií nebo předkupní právo na akcie v jmenovité hodnotě v nich určené. Hypoteční banka nevlastní žádné vlastní akcie. Na akcie Hypoteční banky nebyla vydána žádná opce.
B7: (tis. Kč) | C7: 40543 | D7: 40451 | E7: 40359 | F7: 40268
A8: a) | B8: Souhrnná výše původního kapitálu (Tier 1) | C8: 19188258 | D8: 19189324 | E8: 19190248 | F8: 19119893
B9: Splacený základní kapitál zapsaný v obchodním rejstříku | C9: 5076331 | D9: 5076331 | E9: 5076331 | F9: 5076331
B10: Vlastní akcie | C10: 0 | D10: 0 | E10: 0 | F10: 0
B11: Emisní ážio | C11: 13864384 | D11: 13864384 | E11: 13864384 | F11: 13864384
B12: Rezervní fondy a nerozdělený zisk | C12: 296756.68 | D12: 296756.68 | E12: 296756.68 | F12: 227235.73
B13: Zisk za běžné účetní období | C13: 0 | D13: 0 | E13: 0 | F13: 0
B14: Ztráta za běžné účetní období | C14: 0 | D14: 0 | E14: 0 | F14: 0
B15: Čistý zisk z kapitalizace budouc. příjmů ze sekuritizace | C15: 0 | D15: 0 | E15: 0 | F15: 0
B16: Zisk/ztráta z ocenění závazků v RH z titulu úvěr. rizika | C16: 0 | D16: 0 | E16: 0 | F16: 0
B17: Další odčitatelné položky z původního kapitálu | C17: -49213.123 | D17: -48147.836 | E17: -47223.698 | F17: -48057.407
A18: b) | B18: Souhrnná výše dodatkového kapitálu (Tier 2) | C18: 274360.64 | D18: 223955.84 | E18: 0 | F18: 0
A19: c) | B19: Souhrnná výše kapitálu na krytí tržního rizika (Tier 3) | C19: 0 | D19: 0 | E19: 0 | F19: 0
A20: d) | B20: Souhrnná výše odečitatelných položek | C20: 0 | D20: 0 | E20: -40009.446 | F20: -158548.92
B21: Nedostatek v krytí očekávaných úvěrových ztrát u IRB | C21: 0 | D21: 0 | E21: -40009.446 | F21: -158548.92
A22: e) | B22: Souhrnná výše kapitálu po zohlednění odčitatelných položek
B23: a stanovených limitů pro dodatkový kapitál | C23: 19462619 | D23: 19413280 | E23: 19150238 | F23: 18961344
A26: 2. | B26: Údaje o kapitálových požadavcích
B28: (tis. Kč) | C28: 40543 | D28: 40451 | E28: 40359 | F28: 40268
B29: Kapitálové požadavky celkem | C29: 4002844.7 | D29: 3850062.8 | E29: 4937067.8 | F29: 3819261.3
B30: Výše jednotlivých kapitálových požadavků
A31: 1. | B31: k úvěrovému riziku celkem | C31: 3810460.7 | D31: 3657678.8 | E31: 4744683.8 | F31: 3658275.3
A32: 1.1. | B32: Kap. pož. k úvěr. riziku při STA celkem | C32: 720 | D32: 720 | E32: 720 | F32: 720
B33: Kap. pož. při STA v IRB k akciovým expoz. | C33: 720 | D33: 720 | E33: 720 | F33: 720
A34: 1.2. | B34: Kap. pož. k úvěr. riziku při IRB celkem | C34: 3809740.7 | D34: 3656958.8 | E34: 4743963.8 | F34: 3657555.3
A35: 1.2.1. | B35: Kap. pož. k úvěr. riziku při IRB k ostatním expozicím | C35: 15016.134 | D35: 15682.889 | E35: 15471.63 | F35: 14469.413
A36: 1.2.2. | B36: Kap. pož. k úvěr. riziku při IRB k vybr. expozicím celkem | C36: 3794724.6 | D36: 3641275.9 | E36: 4728492.2 | F36: 3643085.9
B37: Kap. pož. při IRB k podnikovým expoz. | C37: 248159.62 | D37: 252070.49 | E37: 255697.63 | F37: 295986.9
B38: Kap. pož. při IRB k retailovým expoz. | C38: 3058989.6 | D38: 2861511.5 | E38: 3814452.9 | F38: 2670056.2
B39: Kap. pož. při IRB k expoz. vůči centr. vládám a bankám | C39: 0 | D39: 0 | E39: 0 | F39: 0
B40: Kap. pož. při IRB k expoz. vůči institucím | C40: 487575.37 | D40: 527693.97 | E40: 658341.68 | F40: 677042.8
A41: 1.2.3. | B41: Kap. pož. k úvěr. riziku při IRB k akciovým expozicím | C41: 0 | D41: 0 | E41: 0 | F41: 0
A42: 1.2.4. | B42: Kap.pož. k úvěr.riziku při IRB k sekuritizovaným expozicím | C42: 0 | D42: 0 | E42: 0 | F42: 0
A43: 2. | B43: Kap. pož. k operačnímu riziku celkem | C43: 192383.97 | D43: 192383.97 | E43: 192383.97 | F43: 160985.98
A44: 3. | B44: Kap.požadavky ostatní a přechodné | C44: 0 | D44: 0 | E44: 0 | F44: 0
A47: 3. | B47: Další informace
...
